BEGIN:VCALENDAR
VERSION:2.0
PRODID:-//KYMA Events - ECPv6.15.20//NONSGML v1.0//EN
CALSCALE:GREGORIAN
METHOD:PUBLISH
X-ORIGINAL-URL:https://events.kyma.com
X-WR-CALDESC:Events for KYMA Events
REFRESH-INTERVAL;VALUE=DURATION:PT1H
X-Robots-Tag:noindex
X-PUBLISHED-TTL:PT1H
BEGIN:VTIMEZONE
TZID:America/Los_Angeles
BEGIN:DAYLIGHT
TZOFFSETFROM:-0800
TZOFFSETTO:-0700
TZNAME:PDT
DTSTART:20230312T100000
END:DAYLIGHT
BEGIN:STANDARD
TZOFFSETFROM:-0700
TZOFFSETTO:-0800
TZNAME:PST
DTSTART:20231105T090000
END:STANDARD
BEGIN:DAYLIGHT
TZOFFSETFROM:-0800
TZOFFSETTO:-0700
TZNAME:PDT
DTSTART:20240310T100000
END:DAYLIGHT
BEGIN:STANDARD
TZOFFSETFROM:-0700
TZOFFSETTO:-0800
TZNAME:PST
DTSTART:20241103T090000
END:STANDARD
BEGIN:DAYLIGHT
TZOFFSETFROM:-0800
TZOFFSETTO:-0700
TZNAME:PDT
DTSTART:20250309T100000
END:DAYLIGHT
BEGIN:STANDARD
TZOFFSETFROM:-0700
TZOFFSETTO:-0800
TZNAME:PST
DTSTART:20251102T090000
END:STANDARD
END:VTIMEZONE
BEGIN:VEVENT
DTSTART;TZID=America/Los_Angeles:20240402T150000
DTEND;TZID=America/Los_Angeles:20240402T233000
DTSTAMP:20260423T041455
CREATED:20240305T214758Z
LAST-MODIFIED:20240305T214758Z
UID:4683-1712070000-1712100600@events.kyma.com
SUMMARY:72nd Annual Yuma County Fair
DESCRIPTION:72nd Annual Yuma County Fair\nApril 2 – 7\, 2024\nYes!  Can you believe it’s almost time for our Annual Fair?!  We know it’s a bit early to talk about it but time just flies when you’re having fun! \nThe 72nd Annual Yuma County Fair is scheduled for April 2nd – April 7th\, 2024\, we couldn’t be more excited to host another amazing fair!  We have so much entertainment planned for you that you’ll want to visit us all week\, and we want you to visit us all week.  We are one of the few fairs that offers daily entertainment\, that’s right\, daily.  We are bringing back some remarkable local talent as well as some new bands – the main stage entertainment starts from the time we open until we close our doors\, or should I say gates? \nKeep reading for more information… \nStrolling acts is a must-have at any county fair and we have an incredible lineup for you\, your friends and family to enjoy as you take a stroll throughout our beautiful fairgrounds.  Yes!  Let’s not forget about Guido’s Family stage\, also packed with family-friendly entertainment through-out the day. \nRemember to visit the Theatre and Commercial Buildings\, both filled with great commercial and food vendors\, plus performances\, demonstrations\, juggling in the Theatre building throughout the day.  We are not done with all of our entertainment just yet – don’t forget to visit the daily productions between the 4-H and FFA buildings. \nFood\, drinks\, souvenirs and let’s not forget about the carnival!!   Yay\, the thrill of speed and the memories you will make with your friends and family. \nThat’s not all folks—don’t forget about the Junior Livestock Shows (daily\, starting at 8am)\, 4H and FFA projects in the 4-H & FFA buildings (displayed daily)\, come out and support our local youth as they display their incredible skills with photography\, home economics\, clothing and textiles\, school enrichment\, outreach projects and much more. \nOpen entries – if you’re someone who has some artistic\, floral\, cooking\, sowing or baking expertise\, we would love to see it!  This is for all ages\, young or older…  Display your work at the 72nd Annual Yuma County Fair – horticulture\, floriculture\, beverages\, food\, arts\, crafts\, hobbies\, art\, photography and so much more!  You may start registering online on Monday\, January 8\, 2024…it’s FREE\, that’s right it will cost you nothing\, zero\, nada to register and display your work! \nThe 2024 Premium Book is now available! \nHere’s the 2024 Spring Fair schedule: \nTuesday – Gates open at 3 PM until closing \nWednesday – 12 PM until closing \n\nDemolition Derby at 7pm – grab your seat early\, it’s gonna be great…\n\nThursday – 12 PM until closing NO BUDDY DAY this year. \nFriday – 12 PM until closing \nSaturday – 12 PM until closing \nSunday – 12 PM until closing \nEntrance Fee: \n$7.00 – 13 years+ \n$5.00 – 6-12 years of age \nFREE – 5 and under
URL:https://events.kyma.com/event/72nd-annual-yuma-county-fair/2024-04-02/
LOCATION:Yuma County Fairgrounds\, 2520 E 32nd St\, Yuma\, AZ\, 85365\, United States
CATEGORIES:Art and Exhibits,Community,Fairs and Festivals,Food and Drink,Music,Other,Shopping,Sports,Theater
ATTACH;FMTTYPE=image/png:https://events.kyma.com/wp-content/uploads/2024/03/429495073_786063723555389_28651323434386371_n.png
END:VEVENT
END:VCALENDAR