BEGIN:VCALENDAR
VERSION:2.0
PRODID:-//KYMA Events - ECPv6.15.20//NONSGML v1.0//EN
CALSCALE:GREGORIAN
METHOD:PUBLISH
X-WR-CALNAME:KYMA Events
X-ORIGINAL-URL:https://events.kyma.com
X-WR-CALDESC:Events for KYMA Events
REFRESH-INTERVAL;VALUE=DURATION:PT1H
X-Robots-Tag:noindex
X-PUBLISHED-TTL:PT1H
BEGIN:VTIMEZONE
TZID:America/Los_Angeles
BEGIN:DAYLIGHT
TZOFFSETFROM:-0800
TZOFFSETTO:-0700
TZNAME:PDT
DTSTART:20250309T100000
END:DAYLIGHT
BEGIN:STANDARD
TZOFFSETFROM:-0700
TZOFFSETTO:-0800
TZNAME:PST
DTSTART:20251102T090000
END:STANDARD
BEGIN:DAYLIGHT
TZOFFSETFROM:-0800
TZOFFSETTO:-0700
TZNAME:PDT
DTSTART:20260308T100000
END:DAYLIGHT
BEGIN:STANDARD
TZOFFSETFROM:-0700
TZOFFSETTO:-0800
TZNAME:PST
DTSTART:20261101T090000
END:STANDARD
BEGIN:DAYLIGHT
TZOFFSETFROM:-0800
TZOFFSETTO:-0700
TZNAME:PDT
DTSTART:20270314T100000
END:DAYLIGHT
BEGIN:STANDARD
TZOFFSETFROM:-0700
TZOFFSETTO:-0800
TZNAME:PST
DTSTART:20271107T090000
END:STANDARD
END:VTIMEZONE
BEGIN:VEVENT
DTSTART;TZID=America/Los_Angeles:20260512T170000
DTEND;TZID=America/Los_Angeles:20260512T193000
DTSTAMP:20260424T020859
CREATED:20260303T165603Z
LAST-MODIFIED:20260303T165603Z
UID:23189-1778605200-1778614200@events.kyma.com
SUMMARY:DreamBuilder: Start your Childcare Business
DESCRIPTION:✨ Ready to launch or grow your childcare business? ✨\nJoin the 2nd DreamBuilder Cohort— a NO‑COST hybrid business development program designed to help you plan\, build\, and strengthen your childcare venture from the ground up! Whether you’re just getting started or ready to expand\, DreamBuilder provides the tools\, guidance\, and confidence you need to bring your childcare business to life. \n\n📅 In‑person Tuesdays and Thursdays | 5:00 PM – 7:30 PM\n📍 Arizona Western College – SBDC\n🗣 In‑person sessions will be conducted in English.\n💻 Online DreamBuilder modules are available in English or Spanish.
URL:https://events.kyma.com/event/dreambuilder-start-your-childcare-business/2026-05-12/
LOCATION:Arizona Western College Small Business Development Center\, 1351 S Redondo Center Drive\, Yuma\, AZ\, 85365\, United States
CATEGORIES:Community,Education,Other
ATTACH;FMTTYPE=image/png:https://events.kyma.com/wp-content/uploads/2026/03/May-12th-Dreambuilder-2nd-co-hort-flyer-1.png
ORGANIZER;CN="Small Business Development Center":MAILTO:teamsbdc@azwestern.edu
END:VEVENT
BEGIN:VEVENT
DTSTART;TZID=America/Los_Angeles:20260514T170000
DTEND;TZID=America/Los_Angeles:20260514T193000
DTSTAMP:20260424T020859
CREATED:20260303T165603Z
LAST-MODIFIED:20260303T165603Z
UID:23191-1778778000-1778787000@events.kyma.com
SUMMARY:DreamBuilder: Start your Childcare Business
DESCRIPTION:✨ Ready to launch or grow your childcare business? ✨\nJoin the 2nd DreamBuilder Cohort— a NO‑COST hybrid business development program designed to help you plan\, build\, and strengthen your childcare venture from the ground up! Whether you’re just getting started or ready to expand\, DreamBuilder provides the tools\, guidance\, and confidence you need to bring your childcare business to life. \n\n📅 In‑person Tuesdays and Thursdays | 5:00 PM – 7:30 PM\n📍 Arizona Western College – SBDC\n🗣 In‑person sessions will be conducted in English.\n💻 Online DreamBuilder modules are available in English or Spanish.
URL:https://events.kyma.com/event/dreambuilder-start-your-childcare-business/2026-05-14/
LOCATION:Arizona Western College Small Business Development Center\, 1351 S Redondo Center Drive\, Yuma\, AZ\, 85365\, United States
CATEGORIES:Community,Education,Other
ATTACH;FMTTYPE=image/png:https://events.kyma.com/wp-content/uploads/2026/03/May-12th-Dreambuilder-2nd-co-hort-flyer-1.png
ORGANIZER;CN="Small Business Development Center":MAILTO:teamsbdc@azwestern.edu
END:VEVENT
BEGIN:VEVENT
DTSTART;TZID=America/Los_Angeles:20260519T170000
DTEND;TZID=America/Los_Angeles:20260519T193000
DTSTAMP:20260424T020859
CREATED:20260303T165603Z
LAST-MODIFIED:20260303T165603Z
UID:23192-1779210000-1779219000@events.kyma.com
SUMMARY:DreamBuilder: Start your Childcare Business
DESCRIPTION:✨ Ready to launch or grow your childcare business? ✨\nJoin the 2nd DreamBuilder Cohort— a NO‑COST hybrid business development program designed to help you plan\, build\, and strengthen your childcare venture from the ground up! Whether you’re just getting started or ready to expand\, DreamBuilder provides the tools\, guidance\, and confidence you need to bring your childcare business to life. \n\n📅 In‑person Tuesdays and Thursdays | 5:00 PM – 7:30 PM\n📍 Arizona Western College – SBDC\n🗣 In‑person sessions will be conducted in English.\n💻 Online DreamBuilder modules are available in English or Spanish.
URL:https://events.kyma.com/event/dreambuilder-start-your-childcare-business/2026-05-19/
LOCATION:Arizona Western College Small Business Development Center\, 1351 S Redondo Center Drive\, Yuma\, AZ\, 85365\, United States
CATEGORIES:Community,Education,Other
ATTACH;FMTTYPE=image/png:https://events.kyma.com/wp-content/uploads/2026/03/May-12th-Dreambuilder-2nd-co-hort-flyer-1.png
ORGANIZER;CN="Small Business Development Center":MAILTO:teamsbdc@azwestern.edu
END:VEVENT
BEGIN:VEVENT
DTSTART;TZID=America/Los_Angeles:20260521T170000
DTEND;TZID=America/Los_Angeles:20260521T193000
DTSTAMP:20260424T020859
CREATED:20260303T165603Z
LAST-MODIFIED:20260303T165603Z
UID:23193-1779382800-1779391800@events.kyma.com
SUMMARY:DreamBuilder: Start your Childcare Business
DESCRIPTION:✨ Ready to launch or grow your childcare business? ✨\nJoin the 2nd DreamBuilder Cohort— a NO‑COST hybrid business development program designed to help you plan\, build\, and strengthen your childcare venture from the ground up! Whether you’re just getting started or ready to expand\, DreamBuilder provides the tools\, guidance\, and confidence you need to bring your childcare business to life. \n\n📅 In‑person Tuesdays and Thursdays | 5:00 PM – 7:30 PM\n📍 Arizona Western College – SBDC\n🗣 In‑person sessions will be conducted in English.\n💻 Online DreamBuilder modules are available in English or Spanish.
URL:https://events.kyma.com/event/dreambuilder-start-your-childcare-business/2026-05-21/
LOCATION:Arizona Western College Small Business Development Center\, 1351 S Redondo Center Drive\, Yuma\, AZ\, 85365\, United States
CATEGORIES:Community,Education,Other
ATTACH;FMTTYPE=image/png:https://events.kyma.com/wp-content/uploads/2026/03/May-12th-Dreambuilder-2nd-co-hort-flyer-1.png
ORGANIZER;CN="Small Business Development Center":MAILTO:teamsbdc@azwestern.edu
END:VEVENT
BEGIN:VEVENT
DTSTART;TZID=America/Los_Angeles:20260526T170000
DTEND;TZID=America/Los_Angeles:20260526T193000
DTSTAMP:20260424T020859
CREATED:20260303T165604Z
LAST-MODIFIED:20260303T165604Z
UID:23194-1779814800-1779823800@events.kyma.com
SUMMARY:DreamBuilder: Start your Childcare Business
DESCRIPTION:✨ Ready to launch or grow your childcare business? ✨\nJoin the 2nd DreamBuilder Cohort— a NO‑COST hybrid business development program designed to help you plan\, build\, and strengthen your childcare venture from the ground up! Whether you’re just getting started or ready to expand\, DreamBuilder provides the tools\, guidance\, and confidence you need to bring your childcare business to life. \n\n📅 In‑person Tuesdays and Thursdays | 5:00 PM – 7:30 PM\n📍 Arizona Western College – SBDC\n🗣 In‑person sessions will be conducted in English.\n💻 Online DreamBuilder modules are available in English or Spanish.
URL:https://events.kyma.com/event/dreambuilder-start-your-childcare-business/2026-05-26/
LOCATION:Arizona Western College Small Business Development Center\, 1351 S Redondo Center Drive\, Yuma\, AZ\, 85365\, United States
CATEGORIES:Community,Education,Other
ATTACH;FMTTYPE=image/png:https://events.kyma.com/wp-content/uploads/2026/03/May-12th-Dreambuilder-2nd-co-hort-flyer-1.png
ORGANIZER;CN="Small Business Development Center":MAILTO:teamsbdc@azwestern.edu
END:VEVENT
BEGIN:VEVENT
DTSTART;TZID=America/Los_Angeles:20260528T170000
DTEND;TZID=America/Los_Angeles:20260528T193000
DTSTAMP:20260424T020859
CREATED:20260303T165604Z
LAST-MODIFIED:20260303T165604Z
UID:23196-1779987600-1779996600@events.kyma.com
SUMMARY:DreamBuilder: Start your Childcare Business
DESCRIPTION:✨ Ready to launch or grow your childcare business? ✨\nJoin the 2nd DreamBuilder Cohort— a NO‑COST hybrid business development program designed to help you plan\, build\, and strengthen your childcare venture from the ground up! Whether you’re just getting started or ready to expand\, DreamBuilder provides the tools\, guidance\, and confidence you need to bring your childcare business to life. \n\n📅 In‑person Tuesdays and Thursdays | 5:00 PM – 7:30 PM\n📍 Arizona Western College – SBDC\n🗣 In‑person sessions will be conducted in English.\n💻 Online DreamBuilder modules are available in English or Spanish.
URL:https://events.kyma.com/event/dreambuilder-start-your-childcare-business/2026-05-28/
LOCATION:Arizona Western College Small Business Development Center\, 1351 S Redondo Center Drive\, Yuma\, AZ\, 85365\, United States
CATEGORIES:Community,Education,Other
ATTACH;FMTTYPE=image/png:https://events.kyma.com/wp-content/uploads/2026/03/May-12th-Dreambuilder-2nd-co-hort-flyer-1.png
ORGANIZER;CN="Small Business Development Center":MAILTO:teamsbdc@azwestern.edu
END:VEVENT
BEGIN:VEVENT
DTSTART;TZID=America/Los_Angeles:20260602T170000
DTEND;TZID=America/Los_Angeles:20260602T193000
DTSTAMP:20260424T020859
CREATED:20260303T165604Z
LAST-MODIFIED:20260303T165604Z
UID:23197-1780419600-1780428600@events.kyma.com
SUMMARY:DreamBuilder: Start your Childcare Business
DESCRIPTION:✨ Ready to launch or grow your childcare business? ✨\nJoin the 2nd DreamBuilder Cohort— a NO‑COST hybrid business development program designed to help you plan\, build\, and strengthen your childcare venture from the ground up! Whether you’re just getting started or ready to expand\, DreamBuilder provides the tools\, guidance\, and confidence you need to bring your childcare business to life. \n\n📅 In‑person Tuesdays and Thursdays | 5:00 PM – 7:30 PM\n📍 Arizona Western College – SBDC\n🗣 In‑person sessions will be conducted in English.\n💻 Online DreamBuilder modules are available in English or Spanish.
URL:https://events.kyma.com/event/dreambuilder-start-your-childcare-business/2026-06-02/
LOCATION:Arizona Western College Small Business Development Center\, 1351 S Redondo Center Drive\, Yuma\, AZ\, 85365\, United States
CATEGORIES:Community,Education,Other
ATTACH;FMTTYPE=image/png:https://events.kyma.com/wp-content/uploads/2026/03/May-12th-Dreambuilder-2nd-co-hort-flyer-1.png
ORGANIZER;CN="Small Business Development Center":MAILTO:teamsbdc@azwestern.edu
END:VEVENT
BEGIN:VEVENT
DTSTART;TZID=America/Los_Angeles:20260604T170000
DTEND;TZID=America/Los_Angeles:20260604T193000
DTSTAMP:20260424T020859
CREATED:20260303T165605Z
LAST-MODIFIED:20260303T165605Z
UID:23198-1780592400-1780601400@events.kyma.com
SUMMARY:DreamBuilder: Start your Childcare Business
DESCRIPTION:✨ Ready to launch or grow your childcare business? ✨\nJoin the 2nd DreamBuilder Cohort— a NO‑COST hybrid business development program designed to help you plan\, build\, and strengthen your childcare venture from the ground up! Whether you’re just getting started or ready to expand\, DreamBuilder provides the tools\, guidance\, and confidence you need to bring your childcare business to life. \n\n📅 In‑person Tuesdays and Thursdays | 5:00 PM – 7:30 PM\n📍 Arizona Western College – SBDC\n🗣 In‑person sessions will be conducted in English.\n💻 Online DreamBuilder modules are available in English or Spanish.
URL:https://events.kyma.com/event/dreambuilder-start-your-childcare-business/2026-06-04/
LOCATION:Arizona Western College Small Business Development Center\, 1351 S Redondo Center Drive\, Yuma\, AZ\, 85365\, United States
CATEGORIES:Community,Education,Other
ATTACH;FMTTYPE=image/png:https://events.kyma.com/wp-content/uploads/2026/03/May-12th-Dreambuilder-2nd-co-hort-flyer-1.png
ORGANIZER;CN="Small Business Development Center":MAILTO:teamsbdc@azwestern.edu
END:VEVENT
BEGIN:VEVENT
DTSTART;TZID=America/Los_Angeles:20260609T170000
DTEND;TZID=America/Los_Angeles:20260609T193000
DTSTAMP:20260424T020859
CREATED:20260303T165605Z
LAST-MODIFIED:20260303T165605Z
UID:23199-1781024400-1781033400@events.kyma.com
SUMMARY:DreamBuilder: Start your Childcare Business
DESCRIPTION:✨ Ready to launch or grow your childcare business? ✨\nJoin the 2nd DreamBuilder Cohort— a NO‑COST hybrid business development program designed to help you plan\, build\, and strengthen your childcare venture from the ground up! Whether you’re just getting started or ready to expand\, DreamBuilder provides the tools\, guidance\, and confidence you need to bring your childcare business to life. \n\n📅 In‑person Tuesdays and Thursdays | 5:00 PM – 7:30 PM\n📍 Arizona Western College – SBDC\n🗣 In‑person sessions will be conducted in English.\n💻 Online DreamBuilder modules are available in English or Spanish.
URL:https://events.kyma.com/event/dreambuilder-start-your-childcare-business/2026-06-09/
LOCATION:Arizona Western College Small Business Development Center\, 1351 S Redondo Center Drive\, Yuma\, AZ\, 85365\, United States
CATEGORIES:Community,Education,Other
ATTACH;FMTTYPE=image/png:https://events.kyma.com/wp-content/uploads/2026/03/May-12th-Dreambuilder-2nd-co-hort-flyer-1.png
ORGANIZER;CN="Small Business Development Center":MAILTO:teamsbdc@azwestern.edu
END:VEVENT
BEGIN:VEVENT
DTSTART;TZID=America/Los_Angeles:20260611T170000
DTEND;TZID=America/Los_Angeles:20260611T193000
DTSTAMP:20260424T020859
CREATED:20260303T165605Z
LAST-MODIFIED:20260303T165605Z
UID:23200-1781197200-1781206200@events.kyma.com
SUMMARY:DreamBuilder: Start your Childcare Business
DESCRIPTION:✨ Ready to launch or grow your childcare business? ✨\nJoin the 2nd DreamBuilder Cohort— a NO‑COST hybrid business development program designed to help you plan\, build\, and strengthen your childcare venture from the ground up! Whether you’re just getting started or ready to expand\, DreamBuilder provides the tools\, guidance\, and confidence you need to bring your childcare business to life. \n\n📅 In‑person Tuesdays and Thursdays | 5:00 PM – 7:30 PM\n📍 Arizona Western College – SBDC\n🗣 In‑person sessions will be conducted in English.\n💻 Online DreamBuilder modules are available in English or Spanish.
URL:https://events.kyma.com/event/dreambuilder-start-your-childcare-business/2026-06-11/
LOCATION:Arizona Western College Small Business Development Center\, 1351 S Redondo Center Drive\, Yuma\, AZ\, 85365\, United States
CATEGORIES:Community,Education,Other
ATTACH;FMTTYPE=image/png:https://events.kyma.com/wp-content/uploads/2026/03/May-12th-Dreambuilder-2nd-co-hort-flyer-1.png
ORGANIZER;CN="Small Business Development Center":MAILTO:teamsbdc@azwestern.edu
END:VEVENT
BEGIN:VEVENT
DTSTART;TZID=America/Los_Angeles:20260616T170000
DTEND;TZID=America/Los_Angeles:20260616T193000
DTSTAMP:20260424T020859
CREATED:20260303T165606Z
LAST-MODIFIED:20260303T165606Z
UID:23201-1781629200-1781638200@events.kyma.com
SUMMARY:DreamBuilder: Start your Childcare Business
DESCRIPTION:✨ Ready to launch or grow your childcare business? ✨\nJoin the 2nd DreamBuilder Cohort— a NO‑COST hybrid business development program designed to help you plan\, build\, and strengthen your childcare venture from the ground up! Whether you’re just getting started or ready to expand\, DreamBuilder provides the tools\, guidance\, and confidence you need to bring your childcare business to life. \n\n📅 In‑person Tuesdays and Thursdays | 5:00 PM – 7:30 PM\n📍 Arizona Western College – SBDC\n🗣 In‑person sessions will be conducted in English.\n💻 Online DreamBuilder modules are available in English or Spanish.
URL:https://events.kyma.com/event/dreambuilder-start-your-childcare-business/2026-06-16/
LOCATION:Arizona Western College Small Business Development Center\, 1351 S Redondo Center Drive\, Yuma\, AZ\, 85365\, United States
CATEGORIES:Community,Education,Other
ATTACH;FMTTYPE=image/png:https://events.kyma.com/wp-content/uploads/2026/03/May-12th-Dreambuilder-2nd-co-hort-flyer-1.png
ORGANIZER;CN="Small Business Development Center":MAILTO:teamsbdc@azwestern.edu
END:VEVENT
BEGIN:VEVENT
DTSTART;TZID=America/Los_Angeles:20260618T170000
DTEND;TZID=America/Los_Angeles:20260618T193000
DTSTAMP:20260424T020859
CREATED:20260303T165608Z
LAST-MODIFIED:20260303T165608Z
UID:23205-1781802000-1781811000@events.kyma.com
SUMMARY:DreamBuilder: Start your Childcare Business
DESCRIPTION:✨ Ready to launch or grow your childcare business? ✨\nJoin the 2nd DreamBuilder Cohort— a NO‑COST hybrid business development program designed to help you plan\, build\, and strengthen your childcare venture from the ground up! Whether you’re just getting started or ready to expand\, DreamBuilder provides the tools\, guidance\, and confidence you need to bring your childcare business to life. \n\n📅 In‑person Tuesdays and Thursdays | 5:00 PM – 7:30 PM\n📍 Arizona Western College – SBDC\n🗣 In‑person sessions will be conducted in English.\n💻 Online DreamBuilder modules are available in English or Spanish.
URL:https://events.kyma.com/event/dreambuilder-start-your-childcare-business/2026-06-18/
LOCATION:Arizona Western College Small Business Development Center\, 1351 S Redondo Center Drive\, Yuma\, AZ\, 85365\, United States
CATEGORIES:Community,Education,Other
ATTACH;FMTTYPE=image/png:https://events.kyma.com/wp-content/uploads/2026/03/May-12th-Dreambuilder-2nd-co-hort-flyer-1.png
ORGANIZER;CN="Small Business Development Center":MAILTO:teamsbdc@azwestern.edu
END:VEVENT
BEGIN:VEVENT
DTSTART;TZID=America/Los_Angeles:20260623T170000
DTEND;TZID=America/Los_Angeles:20260623T193000
DTSTAMP:20260424T020859
CREATED:20260303T165608Z
LAST-MODIFIED:20260303T165608Z
UID:23206-1782234000-1782243000@events.kyma.com
SUMMARY:DreamBuilder: Start your Childcare Business
DESCRIPTION:✨ Ready to launch or grow your childcare business? ✨\nJoin the 2nd DreamBuilder Cohort— a NO‑COST hybrid business development program designed to help you plan\, build\, and strengthen your childcare venture from the ground up! Whether you’re just getting started or ready to expand\, DreamBuilder provides the tools\, guidance\, and confidence you need to bring your childcare business to life. \n\n📅 In‑person Tuesdays and Thursdays | 5:00 PM – 7:30 PM\n📍 Arizona Western College – SBDC\n🗣 In‑person sessions will be conducted in English.\n💻 Online DreamBuilder modules are available in English or Spanish.
URL:https://events.kyma.com/event/dreambuilder-start-your-childcare-business/2026-06-23/
LOCATION:Arizona Western College Small Business Development Center\, 1351 S Redondo Center Drive\, Yuma\, AZ\, 85365\, United States
CATEGORIES:Community,Education,Other
ATTACH;FMTTYPE=image/png:https://events.kyma.com/wp-content/uploads/2026/03/May-12th-Dreambuilder-2nd-co-hort-flyer-1.png
ORGANIZER;CN="Small Business Development Center":MAILTO:teamsbdc@azwestern.edu
END:VEVENT
BEGIN:VEVENT
DTSTART;TZID=America/Los_Angeles:20260625T170000
DTEND;TZID=America/Los_Angeles:20260625T193000
DTSTAMP:20260424T020859
CREATED:20260303T165609Z
LAST-MODIFIED:20260303T165609Z
UID:23207-1782406800-1782415800@events.kyma.com
SUMMARY:DreamBuilder: Start your Childcare Business
DESCRIPTION:✨ Ready to launch or grow your childcare business? ✨\nJoin the 2nd DreamBuilder Cohort— a NO‑COST hybrid business development program designed to help you plan\, build\, and strengthen your childcare venture from the ground up! Whether you’re just getting started or ready to expand\, DreamBuilder provides the tools\, guidance\, and confidence you need to bring your childcare business to life. \n\n📅 In‑person Tuesdays and Thursdays | 5:00 PM – 7:30 PM\n📍 Arizona Western College – SBDC\n🗣 In‑person sessions will be conducted in English.\n💻 Online DreamBuilder modules are available in English or Spanish.
URL:https://events.kyma.com/event/dreambuilder-start-your-childcare-business/2026-06-25/
LOCATION:Arizona Western College Small Business Development Center\, 1351 S Redondo Center Drive\, Yuma\, AZ\, 85365\, United States
CATEGORIES:Community,Education,Other
ATTACH;FMTTYPE=image/png:https://events.kyma.com/wp-content/uploads/2026/03/May-12th-Dreambuilder-2nd-co-hort-flyer-1.png
ORGANIZER;CN="Small Business Development Center":MAILTO:teamsbdc@azwestern.edu
END:VEVENT
BEGIN:VEVENT
DTSTART;TZID=America/Los_Angeles:20260630T170000
DTEND;TZID=America/Los_Angeles:20260630T193000
DTSTAMP:20260424T020859
CREATED:20260303T165609Z
LAST-MODIFIED:20260303T165609Z
UID:23208-1782838800-1782847800@events.kyma.com
SUMMARY:DreamBuilder: Start your Childcare Business
DESCRIPTION:✨ Ready to launch or grow your childcare business? ✨\nJoin the 2nd DreamBuilder Cohort— a NO‑COST hybrid business development program designed to help you plan\, build\, and strengthen your childcare venture from the ground up! Whether you’re just getting started or ready to expand\, DreamBuilder provides the tools\, guidance\, and confidence you need to bring your childcare business to life. \n\n📅 In‑person Tuesdays and Thursdays | 5:00 PM – 7:30 PM\n📍 Arizona Western College – SBDC\n🗣 In‑person sessions will be conducted in English.\n💻 Online DreamBuilder modules are available in English or Spanish.
URL:https://events.kyma.com/event/dreambuilder-start-your-childcare-business/2026-06-30/
LOCATION:Arizona Western College Small Business Development Center\, 1351 S Redondo Center Drive\, Yuma\, AZ\, 85365\, United States
CATEGORIES:Community,Education,Other
ATTACH;FMTTYPE=image/png:https://events.kyma.com/wp-content/uploads/2026/03/May-12th-Dreambuilder-2nd-co-hort-flyer-1.png
ORGANIZER;CN="Small Business Development Center":MAILTO:teamsbdc@azwestern.edu
END:VEVENT
BEGIN:VEVENT
DTSTART;TZID=America/Los_Angeles:20260702T170000
DTEND;TZID=America/Los_Angeles:20260702T193000
DTSTAMP:20260424T020859
CREATED:20260303T165609Z
LAST-MODIFIED:20260303T165609Z
UID:23209-1783011600-1783020600@events.kyma.com
SUMMARY:DreamBuilder: Start your Childcare Business
DESCRIPTION:✨ Ready to launch or grow your childcare business? ✨\nJoin the 2nd DreamBuilder Cohort— a NO‑COST hybrid business development program designed to help you plan\, build\, and strengthen your childcare venture from the ground up! Whether you’re just getting started or ready to expand\, DreamBuilder provides the tools\, guidance\, and confidence you need to bring your childcare business to life. \n\n📅 In‑person Tuesdays and Thursdays | 5:00 PM – 7:30 PM\n📍 Arizona Western College – SBDC\n🗣 In‑person sessions will be conducted in English.\n💻 Online DreamBuilder modules are available in English or Spanish.
URL:https://events.kyma.com/event/dreambuilder-start-your-childcare-business/2026-07-02/
LOCATION:Arizona Western College Small Business Development Center\, 1351 S Redondo Center Drive\, Yuma\, AZ\, 85365\, United States
CATEGORIES:Community,Education,Other
ATTACH;FMTTYPE=image/png:https://events.kyma.com/wp-content/uploads/2026/03/May-12th-Dreambuilder-2nd-co-hort-flyer-1.png
ORGANIZER;CN="Small Business Development Center":MAILTO:teamsbdc@azwestern.edu
END:VEVENT
END:VCALENDAR