BEGIN:VCALENDAR
VERSION:2.0
PRODID:-//KYMA Events - ECPv6.15.20//NONSGML v1.0//EN
CALSCALE:GREGORIAN
METHOD:PUBLISH
X-ORIGINAL-URL:https://events.kyma.com
X-WR-CALDESC:Events for KYMA Events
REFRESH-INTERVAL;VALUE=DURATION:PT1H
X-Robots-Tag:noindex
X-PUBLISHED-TTL:PT1H
BEGIN:VTIMEZONE
TZID:America/Los_Angeles
BEGIN:DAYLIGHT
TZOFFSETFROM:-0800
TZOFFSETTO:-0700
TZNAME:PDT
DTSTART:20220313T100000
END:DAYLIGHT
BEGIN:STANDARD
TZOFFSETFROM:-0700
TZOFFSETTO:-0800
TZNAME:PST
DTSTART:20221106T090000
END:STANDARD
BEGIN:DAYLIGHT
TZOFFSETFROM:-0800
TZOFFSETTO:-0700
TZNAME:PDT
DTSTART:20230312T100000
END:DAYLIGHT
BEGIN:STANDARD
TZOFFSETFROM:-0700
TZOFFSETTO:-0800
TZNAME:PST
DTSTART:20231105T090000
END:STANDARD
BEGIN:DAYLIGHT
TZOFFSETFROM:-0800
TZOFFSETTO:-0700
TZNAME:PDT
DTSTART:20240310T100000
END:DAYLIGHT
BEGIN:STANDARD
TZOFFSETFROM:-0700
TZOFFSETTO:-0800
TZNAME:PST
DTSTART:20241103T090000
END:STANDARD
END:VTIMEZONE
BEGIN:VEVENT
DTSTART;TZID=America/Los_Angeles:20231228T140000
DTEND;TZID=America/Los_Angeles:20231228T183000
DTSTAMP:20260422T074725
CREATED:20231212T210243Z
LAST-MODIFIED:20231229T194938Z
UID:4127-1703772000-1703788200@events.kyma.com
SUMMARY:Yuma Holiday Heroes Blood Drive Presented by News 11\, ABC 5 and Telemundo 3
DESCRIPTION:Join Vitalant with NEWS11\, ABC5 and Telemundo 3 to build Yuma’s blood supply during the lowest week of the year for donations.  Yuma Holiday Heroes blood donors will help save Arizona kids like 7-year-old Braden\, who was diagnosed last year with leukemia.  During his 138-day stay in the hospital\, he underwent chemotherapy\, required more than 30 blood transfusions and was declared cancer free one year ago on Thanksgiving Day.  Braden and his family are so thankful for all the heroes who donated blood and played a vital part in helping him to beat leukemia. \n  \nFriday – Sunday\, Dec. 28 – 30\, 2023\nYuma Palms\nBloodmobile Near Farmer’s Market\n1375 S. Yuma Palms Pkwy. \n  \nThursday\, Dec. 28\, 2 p.m. – 6:30 p.m.  \nFriday\, Dec. 29\, 9 a.m. – 5 p.m.  \nSaturday\, Dec. 30\, 9 a.m. – 1 p.m. \nIn appreciation for giving blood during the holiday week\, all donors will be thanked with a voucher for a complimentary Pizza Hut medium pizza\, a one-day admission to the Arizona Renaissance Festival and a Vitalant long-sleeved T-shirt (size redeemable by email)!
URL:https://events.kyma.com/event/yuma-holiday-heroes-blood-drive-presented-by-news-11-abc-5-and-telemundo-3/2023-12-28/
LOCATION:Yuma Palms Regional Center\, 1305 Yuma Palms Parkway\, Yuma\, AZ\, 85365\, United States
CATEGORIES:Community,Health and Wellness
END:VEVENT
END:VCALENDAR