BEGIN:VCALENDAR
VERSION:2.0
PRODID:-//KYMA Events - ECPv6.15.20//NONSGML v1.0//EN
CALSCALE:GREGORIAN
METHOD:PUBLISH
X-ORIGINAL-URL:https://events.kyma.com
X-WR-CALDESC:Events for KYMA Events
REFRESH-INTERVAL;VALUE=DURATION:PT1H
X-Robots-Tag:noindex
X-PUBLISHED-TTL:PT1H
BEGIN:VTIMEZONE
TZID:America/Los_Angeles
BEGIN:DAYLIGHT
TZOFFSETFROM:-0800
TZOFFSETTO:-0700
TZNAME:PDT
DTSTART:20230312T100000
END:DAYLIGHT
BEGIN:STANDARD
TZOFFSETFROM:-0700
TZOFFSETTO:-0800
TZNAME:PST
DTSTART:20231105T090000
END:STANDARD
BEGIN:DAYLIGHT
TZOFFSETFROM:-0800
TZOFFSETTO:-0700
TZNAME:PDT
DTSTART:20240310T100000
END:DAYLIGHT
BEGIN:STANDARD
TZOFFSETFROM:-0700
TZOFFSETTO:-0800
TZNAME:PST
DTSTART:20241103T090000
END:STANDARD
BEGIN:DAYLIGHT
TZOFFSETFROM:-0800
TZOFFSETTO:-0700
TZNAME:PDT
DTSTART:20250309T100000
END:DAYLIGHT
BEGIN:STANDARD
TZOFFSETFROM:-0700
TZOFFSETTO:-0800
TZNAME:PST
DTSTART:20251102T090000
END:STANDARD
END:VTIMEZONE
BEGIN:VEVENT
DTSTART;VALUE=DATE:20240119
DTEND;VALUE=DATE:20240121
DTSTAMP:20260420T064308
CREATED:20231204T190436Z
LAST-MODIFIED:20231204T190445Z
UID:4005-1705622400-1705795199@events.kyma.com
SUMMARY:15th Annual Engine and Tractor Show and Tractor Pull
DESCRIPTION:January 19 – 20\,  2024    Wellton Arizona Show –     Branch 206  Old Iron Engine & Tractor Show –  near Yuma Arizona.\nSouthwest Forgotten Iron\,   EDGETA Branch 206 – Wellton\, AZ\n \nWHAT WE DO ?\nOur purpose is the education about\, promotion of\, and preservation of antique engines and related farm equipment. There are approximately 125  members in our club who enjoy restoring and displaying gasoline\, diesel\, steam\, and sterling engines.\n \n President:Bill Lanier Jr\,       P.O.Box 5752\, Goodyear\, AZ 85338\n     \, bigbugranch@yahoo.com\n \nSecretary:   Sharon Weeks\n4739 Kent Street\, Anchorage\, AK 99503\,      leweeks@alaska.net\, (907) 229-8130\n \nBranch 206 Southwest Forgotten Iron Wellton\, AZ
URL:https://events.kyma.com/event/15th-annual-engine-and-tractor-show-and-tractor-pull/
LOCATION:Wellton\, Wellton\, AZ\, 85356\, United States
CATEGORIES:Community,Other
ATTACH;FMTTYPE=image/png:https://events.kyma.com/wp-content/uploads/2023/12/swfi-2024-show-flyer-Br206.png
END:VEVENT
BEGIN:VEVENT
DTSTART;TZID=America/Los_Angeles:20240119T100000
DTEND;TZID=America/Los_Angeles:20240119T170000
DTSTAMP:20260420T064308
CREATED:20240108T181018Z
LAST-MODIFIED:20240108T181018Z
UID:4266-1705658400-1705683600@events.kyma.com
SUMMARY:29th annual Yuma Home & Garden Show
DESCRIPTION:Enjoy all the endless possibilities at Yuma’s largest and most anticipated Home Show…this year will showcase products and services in the home and garden industries.\n\nTalk to licensed contractors\, shop products never seen before at show discounts\, win cash and prizes\, see crafters\, Master Gardeners and Garden Club seminars.
URL:https://events.kyma.com/event/29th-annual-yuma-home-garden-show/2024-01-19/
LOCATION:Yuma Civic Center\, 1440 West Desert Hills Drive\, Yuma\, AZ\, 85365\, United States
CATEGORIES:Community,Fairs and Festivals,Other,Shopping
ATTACH;FMTTYPE=image/jpeg:https://events.kyma.com/wp-content/uploads/2024/01/405458919_836122408314331_8637478071895490863_n.jpg
ORGANIZER;CN="Ross Co Events":MAILTO:rosscoeventsaz@gmail.com
END:VEVENT
BEGIN:VEVENT
DTSTART;TZID=America/Los_Angeles:20240119T120000
DTEND;TZID=America/Los_Angeles:20240119T130000
DTSTAMP:20260420T064308
CREATED:20240110T202913Z
LAST-MODIFIED:20240110T202913Z
UID:4301-1705665600-1705669200@events.kyma.com
SUMMARY:Ribbon Cutting Ceremony for Boxing Club
DESCRIPTION:
URL:https://events.kyma.com/event/ribbon-cutting-ceremony-for-boxing-club/
LOCATION:Youth Center\, 346 W. Main St.\, Somerton\, AZ\, 85350\, United States
CATEGORIES:Community,Other,Sports
ATTACH;FMTTYPE=image/jpeg:https://events.kyma.com/wp-content/uploads/2024/01/Ribbon_Cutting-Invite-Boxing-scaled.jpg
END:VEVENT
BEGIN:VEVENT
DTSTART;TZID=America/Los_Angeles:20240119T200000
DTEND;TZID=America/Los_Angeles:20240119T220000
DTSTAMP:20260420T064308
CREATED:20240110T004010Z
LAST-MODIFIED:20240110T004010Z
UID:4288-1705694400-1705701600@events.kyma.com
SUMMARY:79th Annual Yuma Silver Spur Rodeo Pre-Rodeo Part with Downtime
DESCRIPTION:Come join us for our Pre-Rodeo Party on Friday\, January 19\, 2024 at Sage & Sand. Rodeo swag and some other giveaways. Always a good time.\nDowntime will be cranking out the tunes for us!!
URL:https://events.kyma.com/event/79th-annual-yuma-silver-spur-rodeo-pre-rodeo-part-with-downtime/
LOCATION:Sage & Sand Cocktail Lounge\, 2852 E. 16th Street\, Yuma\, AZ\, 85365\, United States
CATEGORIES:Community,Fairs and Festivals,Other
ATTACH;FMTTYPE=image/jpeg:https://events.kyma.com/wp-content/uploads/2024/01/417738000_859701496163961_5243427624881235680_n.jpg
ORGANIZER;CN="Yuma Silver Spur Rodeo":MAILTO:yumasilverspurrodeo@gmail.com
END:VEVENT
END:VCALENDAR