BEGIN:VCALENDAR
VERSION:2.0
PRODID:-//KYMA Events - ECPv6.15.20//NONSGML v1.0//EN
CALSCALE:GREGORIAN
METHOD:PUBLISH
X-WR-CALNAME:KYMA Events
X-ORIGINAL-URL:https://events.kyma.com
X-WR-CALDESC:Events for KYMA Events
REFRESH-INTERVAL;VALUE=DURATION:PT1H
X-Robots-Tag:noindex
X-PUBLISHED-TTL:PT1H
BEGIN:VTIMEZONE
TZID:America/Los_Angeles
BEGIN:DAYLIGHT
TZOFFSETFROM:-0800
TZOFFSETTO:-0700
TZNAME:PDT
DTSTART:20230312T100000
END:DAYLIGHT
BEGIN:STANDARD
TZOFFSETFROM:-0700
TZOFFSETTO:-0800
TZNAME:PST
DTSTART:20231105T090000
END:STANDARD
BEGIN:DAYLIGHT
TZOFFSETFROM:-0800
TZOFFSETTO:-0700
TZNAME:PDT
DTSTART:20240310T100000
END:DAYLIGHT
BEGIN:STANDARD
TZOFFSETFROM:-0700
TZOFFSETTO:-0800
TZNAME:PST
DTSTART:20241103T090000
END:STANDARD
BEGIN:DAYLIGHT
TZOFFSETFROM:-0800
TZOFFSETTO:-0700
TZNAME:PDT
DTSTART:20250309T100000
END:DAYLIGHT
BEGIN:STANDARD
TZOFFSETFROM:-0700
TZOFFSETTO:-0800
TZNAME:PST
DTSTART:20251102T090000
END:STANDARD
END:VTIMEZONE
BEGIN:VEVENT
DTSTART;TZID=America/Los_Angeles:20240124T183000
DTEND;TZID=America/Los_Angeles:20240124T210000
DTSTAMP:20260420T160727
CREATED:20231205T001843Z
LAST-MODIFIED:20231205T001911Z
UID:4065-1706121000-1706130000@events.kyma.com
SUMMARY:December '63
DESCRIPTION:Show: 7:00 PM\nDoors:  6:30 PM\n\nOnline Scheduled Ticket Price:\nINDIVIDUAL STAGE: $30.00\nFLOOR / BALCONY: $25.00 \nGet tickets here:\nDecember ’63 presented by TAD Management \n  \nThe music of FRANKIE VALLI AND THE FOUR SEASONS comes to life in this one-of-a-kind concert experience. DECEMBER’63 showcases all your favorite songs from Frankie Valli including the classics that have been thrilling audiences for decades. This re-creation of a Frankie Valli and The Four Seasons concert will have you reaching for the high notes as our cast and band take you on musical journey with stops at every phase of the careers of Frankie and the boys! \nDecember 63 Promo \nIn 1962\, the group released their first album\, featuring the single “Sherry\,” which was not only their first charted hit but also their first number-one song. The Four Seasons followed up “Sherry” with several million selling hits\, including “Big Girls Don’t Cry\,” (their second #1 hit)\, “Walk Like A Man\,” (their third #1)\, “Candy Girl” and several others. From 1962 to early 1964\, only The Beach Boys matched the Four Seasons in record sales in the U.S. \nCome out and enjoy a night of timeless classics!
URL:https://events.kyma.com/event/december-63/
LOCATION:Yuma Historic Theatre\, 254 W. Main Street\, Yuma\, AZ\, 85364\, United States
CATEGORIES:Community,Music,Other
ATTACH;FMTTYPE=image/jpeg:https://events.kyma.com/wp-content/uploads/2023/12/D63-865-340.jpg
END:VEVENT
END:VCALENDAR