BEGIN:VCALENDAR
VERSION:2.0
PRODID:-//KYMA Events - ECPv6.15.20//NONSGML v1.0//EN
CALSCALE:GREGORIAN
METHOD:PUBLISH
X-WR-CALNAME:KYMA Events
X-ORIGINAL-URL:https://events.kyma.com
X-WR-CALDESC:Events for KYMA Events
REFRESH-INTERVAL;VALUE=DURATION:PT1H
X-Robots-Tag:noindex
X-PUBLISHED-TTL:PT1H
BEGIN:VTIMEZONE
TZID:America/Los_Angeles
BEGIN:DAYLIGHT
TZOFFSETFROM:-0800
TZOFFSETTO:-0700
TZNAME:PDT
DTSTART:20230312T100000
END:DAYLIGHT
BEGIN:STANDARD
TZOFFSETFROM:-0700
TZOFFSETTO:-0800
TZNAME:PST
DTSTART:20231105T090000
END:STANDARD
BEGIN:DAYLIGHT
TZOFFSETFROM:-0800
TZOFFSETTO:-0700
TZNAME:PDT
DTSTART:20240310T100000
END:DAYLIGHT
BEGIN:STANDARD
TZOFFSETFROM:-0700
TZOFFSETTO:-0800
TZNAME:PST
DTSTART:20241103T090000
END:STANDARD
BEGIN:DAYLIGHT
TZOFFSETFROM:-0800
TZOFFSETTO:-0700
TZNAME:PDT
DTSTART:20250309T100000
END:DAYLIGHT
BEGIN:STANDARD
TZOFFSETFROM:-0700
TZOFFSETTO:-0800
TZNAME:PST
DTSTART:20251102T090000
END:STANDARD
END:VTIMEZONE
BEGIN:VTIMEZONE
TZID:America/Phoenix
BEGIN:STANDARD
TZOFFSETFROM:-0700
TZOFFSETTO:-0700
TZNAME:MST
DTSTART:20230101T000000
END:STANDARD
END:VTIMEZONE
BEGIN:VEVENT
DTSTART;VALUE=DATE:20240203
DTEND;VALUE=DATE:20240204
DTSTAMP:20260424T090111
CREATED:20240111T201045Z
LAST-MODIFIED:20240111T201045Z
UID:4326-1706918400-1707004799@events.kyma.com
SUMMARY:2nd Annual Charity Bike Run
DESCRIPTION:
URL:https://events.kyma.com/event/2nd-annual-charity-bike-run/
LOCATION:AZ
CATEGORIES:Community,Fundraisers and Galas,Other,Sports
ATTACH;FMTTYPE=image/png:https://events.kyma.com/wp-content/uploads/2024/01/2nd-Annual-Bike-1.png
END:VEVENT
BEGIN:VEVENT
DTSTART;TZID=America/Los_Angeles:20240203T080000
DTEND;TZID=America/Los_Angeles:20240203T150000
DTSTAMP:20260424T090111
CREATED:20231204T175000Z
LAST-MODIFIED:20231204T175000Z
UID:3995-1706947200-1706972400@events.kyma.com
SUMMARY:2nd Annual Fundraiser Bike Run  Saddles of Joy
DESCRIPTION:https://www.saddlesofjoyinc.org/upcoming-events.html
URL:https://events.kyma.com/event/2nd-annual-fundraiser-bike-run-saddles-of-joy/
LOCATION:AZ
CATEGORIES:Community,Fundraisers and Galas
ATTACH;FMTTYPE=image/png:https://events.kyma.com/wp-content/uploads/2023/12/2nd-Annual-Bike.png
END:VEVENT
BEGIN:VEVENT
DTSTART;TZID=America/Phoenix:20240203T100000
DTEND;TZID=America/Phoenix:20240203T210000
DTSTAMP:20260424T090111
CREATED:20240202T194904Z
LAST-MODIFIED:20240202T194904Z
UID:4484-1706954400-1706994000@events.kyma.com
SUMMARY:Pits Masters BBQ
DESCRIPTION:Saturday\, February 3rd\, at the Palms RV Resort\, 3400 S. Avenue 7 E\, Yuma\, AZ  85365.
URL:https://events.kyma.com/event/pits-masters-bbq/
LOCATION:Palms RV Resort\, 3400 s avenue 7 e\, yuma\, 85365
CATEGORIES:Community,Fairs and Festivals,Food and Drink,Music,Other
ATTACH;FMTTYPE=image/jpeg:https://events.kyma.com/wp-content/uploads/2024/02/Main-Flyer-1-with-ticket-information-scaled.jpg
END:VEVENT
END:VCALENDAR