BEGIN:VCALENDAR
VERSION:2.0
PRODID:-//KYMA Events - ECPv6.15.20//NONSGML v1.0//EN
CALSCALE:GREGORIAN
METHOD:PUBLISH
X-WR-CALNAME:KYMA Events
X-ORIGINAL-URL:https://events.kyma.com
X-WR-CALDESC:Events for KYMA Events
REFRESH-INTERVAL;VALUE=DURATION:PT1H
X-Robots-Tag:noindex
X-PUBLISHED-TTL:PT1H
BEGIN:VTIMEZONE
TZID:America/Los_Angeles
BEGIN:DAYLIGHT
TZOFFSETFROM:-0800
TZOFFSETTO:-0700
TZNAME:PDT
DTSTART:20230312T100000
END:DAYLIGHT
BEGIN:STANDARD
TZOFFSETFROM:-0700
TZOFFSETTO:-0800
TZNAME:PST
DTSTART:20231105T090000
END:STANDARD
BEGIN:DAYLIGHT
TZOFFSETFROM:-0800
TZOFFSETTO:-0700
TZNAME:PDT
DTSTART:20240310T100000
END:DAYLIGHT
BEGIN:STANDARD
TZOFFSETFROM:-0700
TZOFFSETTO:-0800
TZNAME:PST
DTSTART:20241103T090000
END:STANDARD
BEGIN:DAYLIGHT
TZOFFSETFROM:-0800
TZOFFSETTO:-0700
TZNAME:PDT
DTSTART:20250309T100000
END:DAYLIGHT
BEGIN:STANDARD
TZOFFSETFROM:-0700
TZOFFSETTO:-0800
TZNAME:PST
DTSTART:20251102T090000
END:STANDARD
END:VTIMEZONE
BEGIN:VEVENT
DTSTART;TZID=America/Los_Angeles:20240424T080000
DTEND;TZID=America/Los_Angeles:20240424T170000
DTSTAMP:20260419T071317
CREATED:20240424T215753Z
LAST-MODIFIED:20240424T215753Z
UID:5109-1713945600-1713978000@events.kyma.com
SUMMARY:Imperial Valley Economic & Energy Summit
DESCRIPTION:Register here: https://www.ivedc.com/events/economicsummit
URL:https://events.kyma.com/event/imperial-valley-economic-energy-summit/
LOCATION:Imperial Valley College\, 380 E Aten Rd\, Imperial\, CA\, 92251\, United States
CATEGORIES:Community,Other
ATTACH;FMTTYPE=image/png:https://events.kyma.com/wp-content/uploads/2024/04/Graphics-IVEES-2024-.png
ORGANIZER;CN="Imperial Valley Economic Development Corporation":MAILTO:admin@ivedc.com
END:VEVENT
BEGIN:VEVENT
DTSTART;TZID=America/Los_Angeles:20240424T160000
DTEND;TZID=America/Los_Angeles:20240424T190000
DTSTAMP:20260419T071317
CREATED:20240229T221740Z
LAST-MODIFIED:20240301T051258Z
UID:4665-1713974400-1713985200@events.kyma.com
SUMMARY:Yuma's Takeovers
DESCRIPTION:Yuma’s Takeovers \nWe invite you! \nBoston Pizza\n– Wednesday\, March 6; 4pm to 8pm\n– 2030 S. Avenue 3E\, Yuma\, AZ 85365 \nEl Charro Cafe \n– Wednesday\, April 10; 3 pm to 8 pm\n-601 W. 8th Street\, Yuma\, AZ 85364 \nBaskin Robbins \n– Wednesday\, April 24; 4 pm to 7 pm\n– 11259 S. Frontage Road Ste 104\, Yuma\, AZ 85367 \nWheezy’s Grill and Sports Bar \n– July 11; 4 pm to 7 pm\n-11732 S. Fortuna Road\, Yuma\, AZ 85367
URL:https://events.kyma.com/event/yumas-takeovers-3/
LOCATION:Baskin Robbins\, 11259 S. Frontage Road Ste 104\, Yuma\, AZ\, 85367\, United States
CATEGORIES:Community,Fundraisers and Galas
ATTACH;FMTTYPE=image/png:https://events.kyma.com/wp-content/uploads/2024/02/Food-For-A-Cause-Yuma-County-Series-2024.png
END:VEVENT
BEGIN:VEVENT
DTSTART;TZID=America/Los_Angeles:20240424T170000
DTEND;TZID=America/Los_Angeles:20240424T183000
DTSTAMP:20260419T071317
CREATED:20240423T211041Z
LAST-MODIFIED:20240423T211041Z
UID:5101-1713978000-1713983400@events.kyma.com
SUMMARY:Somerton Domestic Violence Task Force - Denim Day
DESCRIPTION:Wear JEANS and WALK to show your support against SEXUAL VIOLENCE. \nApril 24\, 2024 at 5 p.m. \nBushmasters Memorial Park \n950 E. Main Street\, Somerton\, AZ 85350
URL:https://events.kyma.com/event/somerton-domestic-violence-task-force-denim-day/
LOCATION:Bushmasters Memorial Park\, 950 E. Main Street\, Somerton\, AZ\, 85350\, United States
CATEGORIES:Community,Other
ATTACH;FMTTYPE=image/png:https://events.kyma.com/wp-content/uploads/2024/04/Annotation-2024-04-23-140058.png
END:VEVENT
END:VCALENDAR