BEGIN:VCALENDAR
VERSION:2.0
PRODID:-//KYMA Events - ECPv6.15.20//NONSGML v1.0//EN
CALSCALE:GREGORIAN
METHOD:PUBLISH
X-ORIGINAL-URL:https://events.kyma.com
X-WR-CALDESC:Events for KYMA Events
REFRESH-INTERVAL;VALUE=DURATION:PT1H
X-Robots-Tag:noindex
X-PUBLISHED-TTL:PT1H
BEGIN:VTIMEZONE
TZID:America/Los_Angeles
BEGIN:DAYLIGHT
TZOFFSETFROM:-0800
TZOFFSETTO:-0700
TZNAME:PDT
DTSTART:20230312T100000
END:DAYLIGHT
BEGIN:STANDARD
TZOFFSETFROM:-0700
TZOFFSETTO:-0800
TZNAME:PST
DTSTART:20231105T090000
END:STANDARD
BEGIN:DAYLIGHT
TZOFFSETFROM:-0800
TZOFFSETTO:-0700
TZNAME:PDT
DTSTART:20240310T100000
END:DAYLIGHT
BEGIN:STANDARD
TZOFFSETFROM:-0700
TZOFFSETTO:-0800
TZNAME:PST
DTSTART:20241103T090000
END:STANDARD
BEGIN:DAYLIGHT
TZOFFSETFROM:-0800
TZOFFSETTO:-0700
TZNAME:PDT
DTSTART:20250309T100000
END:DAYLIGHT
BEGIN:STANDARD
TZOFFSETFROM:-0700
TZOFFSETTO:-0800
TZNAME:PST
DTSTART:20251102T090000
END:STANDARD
END:VTIMEZONE
BEGIN:VEVENT
DTSTART;TZID=America/Los_Angeles:20240427T090000
DTEND;TZID=America/Los_Angeles:20240427T120000
DTSTAMP:20260422T074412
CREATED:20240410T195145Z
LAST-MODIFIED:20240410T195145Z
UID:5024-1714208400-1714219200@events.kyma.com
SUMMARY:Dia del Nino Celebration
DESCRIPTION:On Saturday\, April 27th\, families are invited to the Somerton Library’s Annual Día del Niño event. Join us for stories\, crafts\, games\, activities and much more! There is no charge to attend.
URL:https://events.kyma.com/event/dia-del-nino-celebration/
LOCATION:Somerton Main Library\, 240 W. Canal Street\, Somerton\, AZ\, 85350\, United States
CATEGORIES:Community
ATTACH;FMTTYPE=image/jpeg:https://events.kyma.com/wp-content/uploads/2024/04/434688159_809155527925992_2632926379104570529_n.jpg
END:VEVENT
BEGIN:VEVENT
DTSTART;TZID=America/Los_Angeles:20240427T100000
DTEND;TZID=America/Los_Angeles:20240427T140000
DTSTAMP:20260422T074412
CREATED:20240422T204455Z
LAST-MODIFIED:20240422T204455Z
UID:5094-1714212000-1714226400@events.kyma.com
SUMMARY:Family Fun Day
DESCRIPTION:Join us and invite a friend!!\nCompletely free community event!Food Fun Games Community Booths and much more!
URL:https://events.kyma.com/event/family-fun-day/
LOCATION:West Wetlands Park\, 282 North 12th Avenue\, Yuma\, AZ\, 85364\, United States
CATEGORIES:Community,Fairs and Festivals,Food and Drink
ATTACH;FMTTYPE=image/jpeg:https://events.kyma.com/wp-content/uploads/2024/04/437523509_433204269263811_2538674733770619598_n.jpg
END:VEVENT
BEGIN:VEVENT
DTSTART;TZID=America/Los_Angeles:20240427T100000
DTEND;TZID=America/Los_Angeles:20240427T150000
DTSTAMP:20260422T074412
CREATED:20240408T183319Z
LAST-MODIFIED:20240408T183319Z
UID:4991-1714212000-1714230000@events.kyma.com
SUMMARY:Four Valleys of the Sun Open Karate Championships
DESCRIPTION:33rd Annual Martial Arts tournament open to all schools\, styles\, ages and belt ranks. Competition in  Forms\, Sparring & Weapons. Southwest High school El Centro Gym.Beautiful trophies & cash. Don’t miss the action!
URL:https://events.kyma.com/event/four-valleys-of-the-sun-open-karate-championships/
LOCATION:Southwest High School\, 2001 Ocotillo Drive\, El Centro\, CA\, 92243\, United States
CATEGORIES:Community,Other,Sports
ATTACH;FMTTYPE=image/jpeg:https://events.kyma.com/wp-content/uploads/2024/04/Screenshot_20240324-111127_Photos2.jpg
END:VEVENT
BEGIN:VEVENT
DTSTART;TZID=America/Los_Angeles:20240427T113000
DTEND;TZID=America/Los_Angeles:20240427T140000
DTSTAMP:20260422T074412
CREATED:20240422T202228Z
LAST-MODIFIED:20240422T202228Z
UID:5083-1714217400-1714226400@events.kyma.com
SUMMARY:HerStory Tea Party 2024
DESCRIPTION:Join us for this annual fundraiser presented by the Territorial Charter Chapter of Yuma’s American Business Women’s Association. Be inspired\, encouraged and touched by life stories from three notable women nominated from our local community. Enjoy meeting new friends over High Tea\, silent auction\, photo booth and receive a personal gift designed by sponsor YRMC.\n$35 Ticket Advance$40 Door\nTickets Available at:The Best TaquitoText for Tickets: Susan (928) 261-6505\, Cathy (928) 581-3263 Kerrie (928) 210-6816Online: https://www.abwayumaaz.org/even…/herstory-tea-party-2024-2
URL:https://events.kyma.com/event/herstory-tea-party-2024/
LOCATION:Yuma Regional Medical Center Conference Center\, 2400 S Avenue A\, Yuma\, AZ\, 85364\, United States
CATEGORIES:Community,Other
ATTACH;FMTTYPE=image/jpeg:https://events.kyma.com/wp-content/uploads/2024/04/437029216_810621801101635_495327559671732254_n.jpg
END:VEVENT
BEGIN:VEVENT
DTSTART;TZID=America/Los_Angeles:20240427T160000
DTEND;TZID=America/Los_Angeles:20240427T210000
DTSTAMP:20260422T074412
CREATED:20240327T193601Z
LAST-MODIFIED:20240327T193601Z
UID:4936-1714233600-1714251600@events.kyma.com
SUMMARY:Paint for a Cause
DESCRIPTION:Yuma Crossing Rotary will bloom via art\, culture\, and virtual reality.\n \n\nJoin us for an evening of fun\, creativity\, and community support at Brush It Art Studio’s “Paint for a Cause” event! Yuma Crossing Rotary Club is pleased to partner with Brush it Art Studio and DOSIS VR Games to promote local businesses and invest in our community’s future. \n\n \nOur goal is to have 100 community members participate in the event on April 27th\, 2024\, at 4 PM. By paying only $100\, you will get to unleash your inner artist and contribute to a worthy cause. You will also get to connect with fellow community members and support a local business. Event is open for 12+ but this is a BYOB paint party experience! Must be 21 and over to drink. https://bit.ly/YumaCrossingPaint4aCause \n\n \nIf we reach our target of 100 participants\, Yuma Crossing Rotary Club will award four scholarships to deserving members of our community in Yuma County. Your participation in this event will have a tangible impact on someone’s future. \n\n \nWe are excited to announce that Yuma Crossing Rotary Club will provide the winning prizes to the binational winning groups at the Border Entrepreneurial Challenge (BEC) 2024. Furthermore\, two esteemed Rotarians from Yuma Crossing #Rotary Club and community leaders\, Thelma Jeannete Lundy and Bosco Noronha\, will be part of the binational panel of judges. This partnership aims to offer participants an opportunity to present their entrepreneurial ideas to potential investors\, interact with other participants from the border region\, engage with experts from different entrepreneurial fields\, receive guidance from mentors\, and compete with their team or idea for a chance to participate in the final presentation. \n\n \nDon’t miss this opportunity to have fun\, be creative\, and contribute to your community. Join us at Brush it Art Studio on April 27th\, 2024\, and let’s paint for a cause! For scholarship opportunities\, please contact us at yumacrossingclub@gmail.com
URL:https://events.kyma.com/event/paint-for-a-cause/
LOCATION:Brush It Art Studio\, 245 Main Street Unit B\, Yuma\, AZ\, 85364\, United States
CATEGORIES:Art and Exhibits,Community,Other
ATTACH;FMTTYPE=image/jpeg:https://events.kyma.com/wp-content/uploads/2024/03/PaintForACause-YCR.jpg
END:VEVENT
BEGIN:VEVENT
DTSTART;TZID=America/Los_Angeles:20240427T180000
DTEND;TZID=America/Los_Angeles:20240427T220000
DTSTAMP:20260422T074412
CREATED:20240425T211845Z
LAST-MODIFIED:20240425T211845Z
UID:5113-1714240800-1714255200@events.kyma.com
SUMMARY:Spring Dive in Movie Night at the Aquatic Center
DESCRIPTION:The City of El Centro’s Spring Dive-in Movie Night at the Aquatic Center has been moved to Saturday\, from 6 p.m. to 10 p.m. due to high wind advisories for Friday. \nThe Aquatic Center will show the movie “Trolls Band Together\,” starting at 7:30 p.m. Admission is free and the pools are heated. There will be vendors available for food and drinks. For more information call the Aquatic Center at 760-335-4550.
URL:https://events.kyma.com/event/spring-dive-in-movie-night-at-the-aquatic-center/
LOCATION:El Centro Aquatic Center\, 540 Park Ave\, El Centro\, CA\, 92243\, United States
CATEGORIES:Community,Other
ATTACH;FMTTYPE=image/jpeg:https://events.kyma.com/wp-content/uploads/2024/04/ECAC-SpringDiveFlyer.jpg
END:VEVENT
END:VCALENDAR