BEGIN:VCALENDAR
VERSION:2.0
PRODID:-//KYMA Events - ECPv6.15.20//NONSGML v1.0//EN
CALSCALE:GREGORIAN
METHOD:PUBLISH
X-ORIGINAL-URL:https://events.kyma.com
X-WR-CALDESC:Events for KYMA Events
REFRESH-INTERVAL;VALUE=DURATION:PT1H
X-Robots-Tag:noindex
X-PUBLISHED-TTL:PT1H
BEGIN:VTIMEZONE
TZID:America/Los_Angeles
BEGIN:DAYLIGHT
TZOFFSETFROM:-0800
TZOFFSETTO:-0700
TZNAME:PDT
DTSTART:20230312T100000
END:DAYLIGHT
BEGIN:STANDARD
TZOFFSETFROM:-0700
TZOFFSETTO:-0800
TZNAME:PST
DTSTART:20231105T090000
END:STANDARD
BEGIN:DAYLIGHT
TZOFFSETFROM:-0800
TZOFFSETTO:-0700
TZNAME:PDT
DTSTART:20240310T100000
END:DAYLIGHT
BEGIN:STANDARD
TZOFFSETFROM:-0700
TZOFFSETTO:-0800
TZNAME:PST
DTSTART:20241103T090000
END:STANDARD
BEGIN:DAYLIGHT
TZOFFSETFROM:-0800
TZOFFSETTO:-0700
TZNAME:PDT
DTSTART:20250309T100000
END:DAYLIGHT
BEGIN:STANDARD
TZOFFSETFROM:-0700
TZOFFSETTO:-0800
TZNAME:PST
DTSTART:20251102T090000
END:STANDARD
END:VTIMEZONE
BEGIN:VEVENT
DTSTART;TZID=America/Los_Angeles:20240508T190000
DTEND;TZID=America/Los_Angeles:20240508T210000
DTSTAMP:20260422T073714
CREATED:20240411T213509Z
LAST-MODIFIED:20240411T213509Z
UID:5040-1715194800-1715202000@events.kyma.com
SUMMARY:AWC Jazz Ensemble spring concert
DESCRIPTION:The community is invited to join the Arizona Western College Jazz Ensemble for its spring end-of-semester concert. \n\nThe jazz band concert will feature challenging music the students have been working on this semester and will also feature AWC vocal students Dorothy Sánchez and Charles Shepherd. \nThe performance will be held on Wednesday\, May 8\, at 7 p.m. at the AWC Theater located on the Yuma Campus\, 2020 S. Ave 8E. A campus map can be found here. \n\nThe concert is free and open to the public. Donations will be accepted to benefit student scholarships. \nThis year\, the Jazz Ensemble has previously performed during the Mardi Gras event on Main Street in Yuma\, and has also played as part of the Village Jazz Series.
URL:https://events.kyma.com/event/awc-jazz-ensemble-spring-concert/
LOCATION:Arizona Western College Amphitheater\, 2020 S. Ave. 8E\, Yuma\, AZ\, 85365\, United States
CATEGORIES:Community,Music
END:VEVENT
END:VCALENDAR