BEGIN:VCALENDAR
VERSION:2.0
PRODID:-//KYMA Events - ECPv6.15.20//NONSGML v1.0//EN
CALSCALE:GREGORIAN
METHOD:PUBLISH
X-WR-CALNAME:KYMA Events
X-ORIGINAL-URL:https://events.kyma.com
X-WR-CALDESC:Events for KYMA Events
REFRESH-INTERVAL;VALUE=DURATION:PT1H
X-Robots-Tag:noindex
X-PUBLISHED-TTL:PT1H
BEGIN:VTIMEZONE
TZID:America/Los_Angeles
BEGIN:DAYLIGHT
TZOFFSETFROM:-0800
TZOFFSETTO:-0700
TZNAME:PDT
DTSTART:20230312T100000
END:DAYLIGHT
BEGIN:STANDARD
TZOFFSETFROM:-0700
TZOFFSETTO:-0800
TZNAME:PST
DTSTART:20231105T090000
END:STANDARD
BEGIN:DAYLIGHT
TZOFFSETFROM:-0800
TZOFFSETTO:-0700
TZNAME:PDT
DTSTART:20240310T100000
END:DAYLIGHT
BEGIN:STANDARD
TZOFFSETFROM:-0700
TZOFFSETTO:-0800
TZNAME:PST
DTSTART:20241103T090000
END:STANDARD
BEGIN:DAYLIGHT
TZOFFSETFROM:-0800
TZOFFSETTO:-0700
TZNAME:PDT
DTSTART:20250309T100000
END:DAYLIGHT
BEGIN:STANDARD
TZOFFSETFROM:-0700
TZOFFSETTO:-0800
TZNAME:PST
DTSTART:20251102T090000
END:STANDARD
END:VTIMEZONE
BEGIN:VEVENT
DTSTART;TZID=America/Los_Angeles:20240629T103000
DTEND;TZID=America/Los_Angeles:20240629T120000
DTSTAMP:20260419T141810
CREATED:20240626T173618Z
LAST-MODIFIED:20240626T173618Z
UID:5508-1719657000-1719662400@events.kyma.com
SUMMARY:Fourth of July Party
DESCRIPTION:American Legion Post 19\, Yuma Az is hosting a 4th of July celebration party on Saturday June 29\, 2024 at the American Legion Post 19 Patio\, 2575 S Virginia\, Yuma 85364. Beginning at 10:00 a.m. until 12:00 noon. Our community is invited to this special event that includes Hot Dogs with all the fixings\, icy cold watermelon\, drinks etc. There’s fun and games for everyone that include train rides\, a bubble station\, hula hoop contests\, just to name a few. The best of all is the WATER SLIDE. Bring your towels and cool off for a while. REMEMBER\, this special FAMILY event is open to the Yuma public for all\nTo enjoy a fun filled family day at the American Legion.
URL:https://events.kyma.com/event/fourth-of-july-party/
LOCATION:American Legion Post 19\, 2575 S Virginia Dr\, Yuma\, AZ\, 85364\, United States
CATEGORIES:Community
END:VEVENT
BEGIN:VEVENT
DTSTART;TZID=America/Los_Angeles:20240629T180000
DTEND;TZID=America/Los_Angeles:20240629T210000
DTSTAMP:20260419T141810
CREATED:20240515T204130Z
LAST-MODIFIED:20240515T204130Z
UID:5236-1719684000-1719694800@events.kyma.com
SUMMARY:New Orleans Jazz Vibes at The Hills
DESCRIPTION:Step into the heart of the Big Easy\, right here in Yuma\, at The Hills Gastro Pub\, where on Saturday nights\, the irresistible flavors of New Orleans are fused with the soul-stirring rhythms of great live jazz. Sip The Hills’ signature ‘Nola Favs’ cocktails\, and dive into a culinary journey featuring classics like New Orleans gumbo\, po’ boys\, cajun ribeye\, and don’t forget to leave room for some angelic beignets! But it’s not just about the food; it’s about the vibe. Let the New Orleans Gator Stompers – a division of Yuma Jazz Company – transport you with their buffet of traditional and modern NOLA-inspired tunes\, spanning from dixie and Latin to soul and funk. At The Hills\, every bite and every note promise an unforgettable experience straight from the heart of the Crescent City.
URL:https://events.kyma.com/event/new-orleans-jazz-vibes-at-the-hills/2024-06-29/
LOCATION:The Hills Gastro Pub\, 1245 W Desert Hills Dr.\, Yuma\, 85365
CATEGORIES:Food and Drink,Music
ATTACH;FMTTYPE=image/jpeg:https://events.kyma.com/wp-content/uploads/2024/05/The-Hills-NOLA-Jazz-small.jpeg
ORGANIZER;CN="Steven Hennig":MAILTO:yumajazz@gmail.com
END:VEVENT
END:VCALENDAR