BEGIN:VCALENDAR
VERSION:2.0
PRODID:-//KYMA Events - ECPv6.15.20//NONSGML v1.0//EN
CALSCALE:GREGORIAN
METHOD:PUBLISH
X-WR-CALNAME:KYMA Events
X-ORIGINAL-URL:https://events.kyma.com
X-WR-CALDESC:Events for KYMA Events
REFRESH-INTERVAL;VALUE=DURATION:PT1H
X-Robots-Tag:noindex
X-PUBLISHED-TTL:PT1H
BEGIN:VTIMEZONE
TZID:America/Los_Angeles
BEGIN:DAYLIGHT
TZOFFSETFROM:-0800
TZOFFSETTO:-0700
TZNAME:PDT
DTSTART:20240310T100000
END:DAYLIGHT
BEGIN:STANDARD
TZOFFSETFROM:-0700
TZOFFSETTO:-0800
TZNAME:PST
DTSTART:20241103T090000
END:STANDARD
BEGIN:DAYLIGHT
TZOFFSETFROM:-0800
TZOFFSETTO:-0700
TZNAME:PDT
DTSTART:20250309T100000
END:DAYLIGHT
BEGIN:STANDARD
TZOFFSETFROM:-0700
TZOFFSETTO:-0800
TZNAME:PST
DTSTART:20251102T090000
END:STANDARD
BEGIN:DAYLIGHT
TZOFFSETFROM:-0800
TZOFFSETTO:-0700
TZNAME:PDT
DTSTART:20260308T100000
END:DAYLIGHT
BEGIN:STANDARD
TZOFFSETFROM:-0700
TZOFFSETTO:-0800
TZNAME:PST
DTSTART:20261101T090000
END:STANDARD
END:VTIMEZONE
BEGIN:VEVENT
DTSTART;TZID=America/Los_Angeles:20250502T100000
DTEND;TZID=America/Los_Angeles:20250502T140000
DTSTAMP:20260419T091038
CREATED:20250403T164851Z
LAST-MODIFIED:20250403T164851Z
UID:20745-1746180000-1746194400@events.kyma.com
SUMMARY:15th Anniversary CDL Career Fair
DESCRIPTION:Ready for the next opportunity in your trucking career? 🚚 We’re hosting a CDL Career Fair in celebration of our 15th anniversary! Get the chance to interview with multiple carriers at once\, learn about our training if you don’t currently have your CDL\, and celebrate with us. Plus\, our knowledgeable admissions team will be available on-site to answer any questions you have about obtaining your CDL and our school’s training programs. \n  \n➡️ What you can expect from our trucking career fair: \n– Speak to multiple carriers about current & upcoming driving opportunities \n– Explore the various career options you have with your CDL \n– Bring a friend & learn about the many benefits of team driving \n– Enter for a chance to win gift cards\, apparel\, & more! \n  \nWe will have a food truck on-site\, prepare for a day of fun and drive your future forward! See you May 2nd 🎉
URL:https://events.kyma.com/event/15th-anniversary-cdl-career-fair/
LOCATION:Yuma Truck Driving School\, 3180 East 32nd Street\, Yuma\, AZ\, 85365-7504\, United States
CATEGORIES:Community,Education
ATTACH;FMTTYPE=image/png:https://events.kyma.com/wp-content/uploads/2025/04/Career-Fair-Event-Cover-Photo-9.png
ORGANIZER;CN="Yuma Truck Driving School":MAILTO:train@hdsdrivers.com
END:VEVENT
END:VCALENDAR