BEGIN:VCALENDAR
VERSION:2.0
PRODID:-//KYMA Events - ECPv6.15.20//NONSGML v1.0//EN
CALSCALE:GREGORIAN
METHOD:PUBLISH
X-ORIGINAL-URL:https://events.kyma.com
X-WR-CALDESC:Events for KYMA Events
REFRESH-INTERVAL;VALUE=DURATION:PT1H
X-Robots-Tag:noindex
X-PUBLISHED-TTL:PT1H
BEGIN:VTIMEZONE
TZID:America/Los_Angeles
BEGIN:DAYLIGHT
TZOFFSETFROM:-0800
TZOFFSETTO:-0700
TZNAME:PDT
DTSTART:20250309T100000
END:DAYLIGHT
BEGIN:STANDARD
TZOFFSETFROM:-0700
TZOFFSETTO:-0800
TZNAME:PST
DTSTART:20251102T090000
END:STANDARD
BEGIN:DAYLIGHT
TZOFFSETFROM:-0800
TZOFFSETTO:-0700
TZNAME:PDT
DTSTART:20260308T100000
END:DAYLIGHT
BEGIN:STANDARD
TZOFFSETFROM:-0700
TZOFFSETTO:-0800
TZNAME:PST
DTSTART:20261101T090000
END:STANDARD
BEGIN:DAYLIGHT
TZOFFSETFROM:-0800
TZOFFSETTO:-0700
TZNAME:PDT
DTSTART:20270314T100000
END:DAYLIGHT
BEGIN:STANDARD
TZOFFSETFROM:-0700
TZOFFSETTO:-0800
TZNAME:PST
DTSTART:20271107T090000
END:STANDARD
END:VTIMEZONE
BEGIN:VEVENT
DTSTART;TZID=America/Los_Angeles:20260305T153000
DTEND;TZID=America/Los_Angeles:20260305T170000
DTSTAMP:20260425T032443
CREATED:20260127T213253Z
LAST-MODIFIED:20260127T213253Z
UID:22705-1772724600-1772730000@events.kyma.com
SUMMARY:How to Start a Business in Yuma
DESCRIPTION:🚀 Ready to start your business in Yuma but not sure where to begin?\nJoin us for a NO COST workshop: How to Start a Business in Yuma: \n📅 Thursday\, March 5\, 2026 \n🕒 3:30 PM – 5:00 PM \n📍 Small Business Development Center\, 1351 S Redondo Center Dr\, Yuma\, AZ (Room #164) \n💻 In-person & via Zoom! \nLearn how to: \n✅ Plan your business ✅ Conduct market research ✅ Create a business plan ✅ Choose your location ✅ Fund your startup
URL:https://events.kyma.com/event/how-to-start-a-business-in-yuma/
LOCATION:Arizona Western College Small Business Development Center\, 1351 S Redondo Center Drive\, Yuma\, AZ\, 85365\, United States
CATEGORIES:Community,Education,Other
ATTACH;FMTTYPE=image/jpeg:https://events.kyma.com/wp-content/uploads/2026/01/WORKSHOPHow-to-Start-a-Business-in-Yuma-Location-AWC-RTC-Center-RM164-Date-March-5th-2026.jpg
ORGANIZER;CN="Small Business Development Center":MAILTO:teamsbdc@azwestern.edu
END:VEVENT
END:VCALENDAR