BEGIN:VCALENDAR
VERSION:2.0
PRODID:-//KYMA Events - ECPv6.15.20//NONSGML v1.0//EN
CALSCALE:GREGORIAN
METHOD:PUBLISH
X-WR-CALNAME:KYMA Events
X-ORIGINAL-URL:https://events.kyma.com
X-WR-CALDESC:Events for KYMA Events
REFRESH-INTERVAL;VALUE=DURATION:PT1H
X-Robots-Tag:noindex
X-PUBLISHED-TTL:PT1H
BEGIN:VTIMEZONE
TZID:America/Los_Angeles
BEGIN:DAYLIGHT
TZOFFSETFROM:-0800
TZOFFSETTO:-0700
TZNAME:PDT
DTSTART:20250309T100000
END:DAYLIGHT
BEGIN:STANDARD
TZOFFSETFROM:-0700
TZOFFSETTO:-0800
TZNAME:PST
DTSTART:20251102T090000
END:STANDARD
BEGIN:DAYLIGHT
TZOFFSETFROM:-0800
TZOFFSETTO:-0700
TZNAME:PDT
DTSTART:20260308T100000
END:DAYLIGHT
BEGIN:STANDARD
TZOFFSETFROM:-0700
TZOFFSETTO:-0800
TZNAME:PST
DTSTART:20261101T090000
END:STANDARD
BEGIN:DAYLIGHT
TZOFFSETFROM:-0800
TZOFFSETTO:-0700
TZNAME:PDT
DTSTART:20270314T100000
END:DAYLIGHT
BEGIN:STANDARD
TZOFFSETFROM:-0700
TZOFFSETTO:-0800
TZNAME:PST
DTSTART:20271107T090000
END:STANDARD
END:VTIMEZONE
BEGIN:VEVENT
DTSTART;TZID=America/Los_Angeles:20260321T090000
DTEND;TZID=America/Los_Angeles:20260321T120000
DTSTAMP:20260425T084543
CREATED:20260306T182645Z
LAST-MODIFIED:20260306T182645Z
UID:23268-1774083600-1774094400@events.kyma.com
SUMMARY:CDL Training Open House
DESCRIPTION:Change your life with a CDL! Trucking offers job stability\, the ability to travel for work\, competitive pay\, and more! We offer both Class A & B training programs\, so you can choose your path in this industry. Plus\, we offer job placement assistance to help you land that first gig. Are you ready drive your future forward?\n\nMeet our admissions staff\, learn about the various funding options available (to those who qualify\, including VA funding!)\, explore the many benefits the trucking industry has to offer you\, and more!\n\nSee you on March 21st!
URL:https://events.kyma.com/event/cdl-training-open-house-2/
LOCATION:Yuma Truck Driving School\, 3180 East 32nd Street\, Yuma\, AZ\, 85365-7504\, United States
CATEGORIES:Education
ATTACH;FMTTYPE=image/png:https://events.kyma.com/wp-content/uploads/2026/03/2026-Open-House-FB-Cover-4.png
ORGANIZER;CN="Yuma Truck Driving School":MAILTO:train@hdsdrivers.com
END:VEVENT
END:VCALENDAR