BEGIN:VCALENDAR
VERSION:2.0
PRODID:-//KYMA Events - ECPv6.15.20//NONSGML v1.0//EN
CALSCALE:GREGORIAN
METHOD:PUBLISH
X-ORIGINAL-URL:https://events.kyma.com
X-WR-CALDESC:Events for KYMA Events
REFRESH-INTERVAL;VALUE=DURATION:PT1H
X-Robots-Tag:noindex
X-PUBLISHED-TTL:PT1H
BEGIN:VTIMEZONE
TZID:America/Los_Angeles
BEGIN:DAYLIGHT
TZOFFSETFROM:-0800
TZOFFSETTO:-0700
TZNAME:PDT
DTSTART:20240310T100000
END:DAYLIGHT
BEGIN:STANDARD
TZOFFSETFROM:-0700
TZOFFSETTO:-0800
TZNAME:PST
DTSTART:20241103T090000
END:STANDARD
BEGIN:DAYLIGHT
TZOFFSETFROM:-0800
TZOFFSETTO:-0700
TZNAME:PDT
DTSTART:20250309T100000
END:DAYLIGHT
BEGIN:STANDARD
TZOFFSETFROM:-0700
TZOFFSETTO:-0800
TZNAME:PST
DTSTART:20251102T090000
END:STANDARD
BEGIN:DAYLIGHT
TZOFFSETFROM:-0800
TZOFFSETTO:-0700
TZNAME:PDT
DTSTART:20260308T100000
END:DAYLIGHT
BEGIN:STANDARD
TZOFFSETFROM:-0700
TZOFFSETTO:-0800
TZNAME:PST
DTSTART:20261101T090000
END:STANDARD
BEGIN:DAYLIGHT
TZOFFSETFROM:-0800
TZOFFSETTO:-0700
TZNAME:PDT
DTSTART:20270314T100000
END:DAYLIGHT
BEGIN:STANDARD
TZOFFSETFROM:-0700
TZOFFSETTO:-0800
TZNAME:PST
DTSTART:20271107T090000
END:STANDARD
END:VTIMEZONE
BEGIN:VEVENT
DTSTART;TZID=America/Los_Angeles:20251115T080000
DTEND;TZID=America/Los_Angeles:20251115T120000
DTSTAMP:20260424T021329
CREATED:20250812T182218Z
LAST-MODIFIED:20250812T182218Z
UID:21372-1763193600-1763208000@events.kyma.com
SUMMARY:2025 Walk to End Alzheimer's
DESCRIPTION:West Wetlands Park \n  \nRegistration begins at 8 a.m. \nCeremony at 9 a.m. \nWalk at 9:30 a.m. \n  \nRegister here.
URL:https://events.kyma.com/event/2025-walk-to-end-alzheimers/
LOCATION:West Wetlands Park\, 282 North 12th Avenue\, Yuma\, AZ\, 85364\, United States
CATEGORIES:Community,Fairs and Festivals,Fundraisers and Galas
ATTACH;FMTTYPE=image/png:https://events.kyma.com/wp-content/uploads/2025/08/Alzeheimers-Walk-2025.png
END:VEVENT
BEGIN:VEVENT
DTSTART;TZID=America/Los_Angeles:20251211T180000
DTEND;TZID=America/Los_Angeles:20251211T210000
DTSTAMP:20260424T021329
CREATED:20251119T202425Z
LAST-MODIFIED:20251119T202425Z
UID:22033-1765476000-1765486800@events.kyma.com
SUMMARY:Yuma Farm Film Festival
DESCRIPTION:Join us at the Historic Yuma Theater and celebrate Yuma agriculture with inspiring films on sustainability\, innovation & farm life.
URL:https://events.kyma.com/event/yuma-farm-film-festival/
LOCATION:Historic Yuma Theatre\, 254 W Main Street\, Yuma\, 85364
CATEGORIES:Community,Education,Fairs and Festivals
ATTACH;FMTTYPE=image/png:https://events.kyma.com/wp-content/uploads/2025/11/YFFF-2-Color-Design-Flyer.png
ORGANIZER;CN="Yuma County Cooperative Extension":MAILTO:masson@arizona.edu
END:VEVENT
BEGIN:VEVENT
DTSTART;TZID=America/Los_Angeles:20251213T140000
DTEND;TZID=America/Los_Angeles:20251213T220000
DTSTAMP:20260424T021329
CREATED:20251212T232431Z
LAST-MODIFIED:20251212T232431Z
UID:22282-1765634400-1765663200@events.kyma.com
SUMMARY:♛A New Crown for Yuma ♛
DESCRIPTION:♛༆ The Wait Is Over  \nOur Proudest Moment Has Arrived! \n ♛A New Crown for Yuma ♛ \n♛༆ Sun of a Gun Cigars is now officially a Diamond Crown Lounge\, joining an elite network of world class destinations recognized for unparalleled hospitality\, craftsmanship\, and community.  \nThis milestone marks a new era for Yuma’s cigar culture and we’re celebrating in grand style. \n♛༆ The Diamond Crown Celebration  \nThe Diamond Crown Celebration \n📅 Saturday\, December 13th | 🕔2pm -10pm \n📍 Sun of a Gun \n🎟️ FREE Entry (21+) \n♛ An Experience Worthy of the Crown ♛ \n• Live Music\, Immerse yourself in the soulful sounds of Barry Cohen\, performing live from 6-9pm  \nDistinguished Guest We’re honored to welcome a special appearance by a member of the J.C. Newman Family\, founders of the legendary Diamond Crown brand. \nSignature Offerings Enjoy exclusive cigar releases\, curated pairings\, fine spirits\, and the refined atmosphere that defines the Diamond Crown tradition. \n♛༆ Celebrate Luxury\, Legacy\, and Brotherhood \nBring your friends\, light up something extraordinary\, and toast with us to this new chapter of excellence at Sun of a Gun. \n♛༆ This is one celebration no true aficionado should miss! \nRaise your glass\, lift your spirit\, and join us for an unforgettable evening under the Arizona sky. \n😎🥂 \n🔗 Full Details: \nhttps://www.facebook.com/share/1BQCASuB1R/?mibextid=wwXIfr
URL:https://events.kyma.com/event/%e2%99%9ba-new-crown-for-yuma-%e2%99%9b/
LOCATION:AZ
CATEGORIES:Community,Fairs and Festivals,Music
ATTACH;FMTTYPE=image/png:https://events.kyma.com/wp-content/uploads/2025/12/Black-and-Red-Gothic-Fashion-Facebook-Post-11-x-17-in-2.png
ORGANIZER;CN="Sun Of a Gun Cigar Wine &amp%3B Beer Garden":MAILTO:Cigar1128@yahoo.com
END:VEVENT
BEGIN:VEVENT
DTSTART;TZID=America/Los_Angeles:20251213T173000
DTEND;TZID=America/Los_Angeles:20251213T230000
DTSTAMP:20260424T021329
CREATED:20251015T233744Z
LAST-MODIFIED:20251015T233744Z
UID:21746-1765647000-1765666800@events.kyma.com
SUMMARY:Yuma Christmas Dinner and Dance
DESCRIPTION:Yuma Farmers Market Presents \nA Homemade County \nChristmas Dinner and Dance \nDecember 13\, 2025 \nDoors open @ 5:30 p.m. \nDinner @ 6 p.m. \nMusic 7 p.m. to 11 p.m. \nElks Lodge\n1917 W. 32nd St.\, Yuma\, AZ 85365 \nEnjoy a night of holiday cheer with Gene Doten\nPhotography\, door prizes\, jewelry giveaways\, pictures with Santa Claus and Mrs. Claus\, and live music by Big Bass Band – all included with your dinner \nTickets are $65
URL:https://events.kyma.com/event/yuma-christmas-dinner-and-dance/
LOCATION:Elks Lodge\, Yuma\, AZ\, 1917 W 32nd St\, Yuma\, 85364
CATEGORIES:Community,Fairs and Festivals
ATTACH;FMTTYPE=image/jpeg:https://events.kyma.com/wp-content/uploads/2025/10/IMG_0611.jpg
END:VEVENT
BEGIN:VEVENT
DTSTART;VALUE=DATE:20251220
DTEND;VALUE=DATE:20251221
DTSTAMP:20260424T021329
CREATED:20251202T234604Z
LAST-MODIFIED:20251203T171657Z
UID:22191-1766188800-1766275199@events.kyma.com
SUMMARY:Somerton Tamale Festival 2025
DESCRIPTION:The Somerton Tamale Festival returns Saturday\, December 20 at 11 a.m. \nArizona State University (ASU) El Diablito Alumni Chapter will sponsor the 18th Annual Somerton Tamale Festival on December 20\, 2025. \nThe memory of preparing and enjoying our families’ tamales during the holiday season is a cultural tradition. Using that same tradition and unique family recipes\, the El Diablito Alumni Club has organized the festival to showcase Yuma County’s best and finest tamales. This all-day event features music\, cultural dances\, and a variety of tamales which have attracted a range of people including local families\, senior citizens\, teenagers and out-of-state travelers. \nThe ASU El Diablito Alumni Club\, along with many local sponsors\, has helped students achieve their goal of attending college for the past 20 years by providing over $450\,000 in scholarships to local students attending ASU. The Somerton Tamale Festival has helped boost the local economy by attracting thousands of visitors. \nThis event features vendors and showcases the community’s non-profit and school clubs. According to the Yuma Sun\, the Tamale Festival attracted 30\,000 people in previous year. This event was featured in Phoenix magazine as one of the top 52 weekend adventures in the state. The El Diablito ASU Alumni Club is seeking your support for this event. Your generous contribution will help students further their education and your company’s name will be represented to the highest standards.
URL:https://events.kyma.com/event/somerton-tamale-festival-2025/
LOCATION:Somerton Main Street\, Somerton Main Street\, Somerton\, 85350\, United States
CATEGORIES:Community,Fairs and Festivals,Food and Drink
ATTACH;FMTTYPE=image/webp:https://events.kyma.com/wp-content/uploads/2025/12/tamalefest_noyear_cmyk3002.webp
END:VEVENT
BEGIN:VEVENT
DTSTART;TZID=America/Los_Angeles:20260115T180000
DTEND;TZID=America/Los_Angeles:20260115T210000
DTSTAMP:20260424T021329
CREATED:20260114T233437Z
LAST-MODIFIED:20260114T234026Z
UID:22592-1768500000-1768510800@events.kyma.com
SUMMARY:Meet\, Laugh\, Connect
DESCRIPTION:If you’re looking for a place to get to know new people in a safe space the Meet\, Love\, Connect event may just be for you! \n\n\n\nThe event will take place Thursday\, January 15 at Saint Paul’s Event Center. \n\nIt starts at 6:00 p.m. and ends at 9:00 p.m.
URL:https://events.kyma.com/event/meet-love-connect/
LOCATION:AZ
CATEGORIES:Community,Fairs and Festivals,Other
ATTACH;FMTTYPE=image/jpeg:https://events.kyma.com/wp-content/uploads/2026/01/611550442_122116654941064680_8079736115899971309_n.jpg
END:VEVENT
BEGIN:VEVENT
DTSTART;TZID=America/Los_Angeles:20260117T120000
DTEND;TZID=America/Los_Angeles:20260117T170000
DTSTAMP:20260424T021329
CREATED:20260112T181028Z
LAST-MODIFIED:20260112T182203Z
UID:22537-1768651200-1768669200@events.kyma.com
SUMMARY:2026 Horseshoe Tournament
DESCRIPTION:2026 Silver Spur Rodeo\, Inc.\nHorseshoe Tournament \nTeam Registration of 2 | $40 per team \nSingle Registration | $20 \nSaturday\, January 17\, 2026 \nDouble elimination play \nFood and fun \nOutside food or drinks will be permitted \nSign-ups day of: Noon to 1 p.m. \n2577 E. County 14th Street\, Yuma\, AZ 85365
URL:https://events.kyma.com/event/2026-horseshoe-tournament/
LOCATION:2577 E. County 14th Street\, 2577 E. County 14th Street\, Yuma\, 85365
CATEGORIES:Community,Fairs and Festivals,Sports
ATTACH;FMTTYPE=image/jpeg:https://events.kyma.com/wp-content/uploads/2026/01/IMG_9103.jpeg
END:VEVENT
BEGIN:VEVENT
DTSTART;TZID=America/Los_Angeles:20260124T163000
DTEND;TZID=America/Los_Angeles:20260124T190000
DTSTAMP:20260424T021329
CREATED:20260112T214843Z
LAST-MODIFIED:20260112T214938Z
UID:22546-1769272200-1769281200@events.kyma.com
SUMMARY:Color Run 2026
DESCRIPTION:The Color Run will be at Kofa High School on January 24\, 2026. \n\n\n\nSign-ups start at $35 per adult and $20 for students. \n\n\n\nThe event includes an afterparty and local vendors\, with proceeds going to Special Olympics Arizona. \n\n\n\nCheck-in begins at 3 p.m. with the run starting at 4:30 p.m. \n\n\n\nYou can sign-up online here.
URL:https://events.kyma.com/event/22546/
LOCATION:Kofa High School Auditorium\, 3100 S Avenue A #7904\, Yuma\, AZ\, 85364\, United States
CATEGORIES:Community,Education,Fairs and Festivals,Food and Drink,Sports
ATTACH;FMTTYPE=image/jpeg:https://events.kyma.com/wp-content/uploads/2026/01/color_run_flyer.jpg
END:VEVENT
BEGIN:VEVENT
DTSTART;TZID=America/Los_Angeles:20260207T090000
DTEND;TZID=America/Los_Angeles:20260207T130000
DTSTAMP:20260424T021329
CREATED:20260107T231130Z
LAST-MODIFIED:20260107T231130Z
UID:22486-1770454800-1770469200@events.kyma.com
SUMMARY:Petpalooza in Somerton
DESCRIPTION:The City of Somerton’s annual Petpalooza is our community’s way of celebrating the health and well-being of our furry friends. Join us at this family friendly event with free activities for your four-legged friends! \nLive entertainment\, local services and food vendors
URL:https://events.kyma.com/event/petpalooza-in-somerton/
LOCATION:Somerton Main Street\, Somerton Main Street\, Somerton\, 85350\, United States
CATEGORIES:Community,Fairs and Festivals,Other
ATTACH;FMTTYPE=image/jpeg:https://events.kyma.com/wp-content/uploads/2026/01/Buttons_Website-pepaloozacover-scaled.jpg
END:VEVENT
BEGIN:VEVENT
DTSTART;TZID=America/Los_Angeles:20260207T130000
DTEND;TZID=America/Los_Angeles:20260207T180000
DTSTAMP:20260424T021329
CREATED:20260107T183258Z
LAST-MODIFIED:20260107T183258Z
UID:22479-1770469200-1770487200@events.kyma.com
SUMMARY:The Country Lovin' Hoedown
DESCRIPTION:Saturday\, February 7th \n1-6 p.m. \nDoors open at 12:30 p.m. \nPivot Point Conference Center \n310 Madison Avenue\, Yuma \nA great way to celebrate Valentine’s Day! \nLive music\, dinner\, dancing\, raffles & auctions! \nTickets $40 \nAlso buy at crossroadsmission.org \nand 2nd Chance Thrift Store\, 550 W. 8th St.
URL:https://events.kyma.com/event/the-country-lovin-hoedown/
LOCATION:Pivot Point Conference Center\, 310 N Madison Ave\, Yuma\, AZ\, 85364\, United States
CATEGORIES:Community,Fairs and Festivals,Food and Drink
ATTACH;FMTTYPE=image/jpeg:https://events.kyma.com/wp-content/uploads/2026/01/thumbnail_Hoedown-26-FLYER.pdf-1.jpg
END:VEVENT
BEGIN:VEVENT
DTSTART;VALUE=DATE:20260213
DTEND;VALUE=DATE:20260216
DTSTAMP:20260424T021329
CREATED:20260107T231421Z
LAST-MODIFIED:20260107T231421Z
UID:22489-1770940800-1771199999@events.kyma.com
SUMMARY:Silver Spur Rodeo 2026
DESCRIPTION:81st Annual Yuma Silver Spur Rodeo\n\n\n\n\nCome celebrate 81 years of professional rodeo in Yuma County!!! \nWe will have all the exciting events\, bull-riding\, Steer Wrestling\, Barrel Racing\, just to name a few. And\, of course\, everyone’s favorite Mutton Busting for the kiddos. We have an amazing specialty act coming for this celebration. \nThis is a family friendly event so we hope you all will join us in our celebration!!! \n\nPurchase tickets here
URL:https://events.kyma.com/event/silver-spur-rodeo-2026/
LOCATION:AZ
CATEGORIES:Community,Fairs and Festivals,Food and Drink
ATTACH;FMTTYPE=image/jpeg:https://events.kyma.com/wp-content/uploads/2026/01/yuma-silver-spur-rodeo-registration-logo-12693.jpg
END:VEVENT
BEGIN:VEVENT
DTSTART;TZID=America/Los_Angeles:20260213T170000
DTEND;TZID=America/Los_Angeles:20260213T230000
DTSTAMP:20260424T021329
CREATED:20260202T172406Z
LAST-MODIFIED:20260202T172406Z
UID:22761-1771002000-1771023600@events.kyma.com
SUMMARY:25th Annual Mardi Gras
DESCRIPTION:Friday\, February 13\n5 p.m. – 11 p.m. \nHistoric Downtown Yuma \nWear your Mardi Gras best! \nMain show includes Eric Sage’s Ultimate Rock Show with songs from the 70’s and 80’s
URL:https://events.kyma.com/event/25th-annual-mardi-gras/
LOCATION:Historic Downtown Yuma
CATEGORIES:Community,Fairs and Festivals,Food and Drink,Music
ATTACH;FMTTYPE=application/pdf:https://events.kyma.com/wp-content/uploads/2026/02/2026-Mardi-Gras-Handout-Flyer.pdf
END:VEVENT
BEGIN:VEVENT
DTSTART;TZID=America/Los_Angeles:20260214T170000
DTEND;TZID=America/Los_Angeles:20260214T220000
DTSTAMP:20260424T021329
CREATED:20260103T005652Z
LAST-MODIFIED:20260103T005652Z
UID:22436-1771088400-1771106400@events.kyma.com
SUMMARY:No Exceptions 2026
DESCRIPTION:No Exceptions 2026 will be at Desert Sun Stadium on February 14\, 2026.\n\n \n\nThe Frontmen\, a supergroup made of musicians from other bands\, are headlining the show.\n\n \n\nOther acts include Downtime and the Gwynn Sisters.\n\n \n\nTickets start at $35 per person.\n\n \n\nYou can buy tickets here.
URL:https://events.kyma.com/event/no-exceptions-2026/
LOCATION:Desert Sun Stadium\, 1280 Desert Sun Drive\, Yuma\, AZ\, 85364\, United States
CATEGORIES:Fairs and Festivals,Music
ATTACH;FMTTYPE=image/jpeg:https://events.kyma.com/wp-content/uploads/2026/01/608178511_1194028812847255_2985408410361628512_n.jpg
END:VEVENT
BEGIN:VEVENT
DTSTART;TZID=America/Los_Angeles:20260223T110000
DTEND;TZID=America/Los_Angeles:20260223T190000
DTSTAMP:20260424T021329
CREATED:20260211T183129Z
LAST-MODIFIED:20260211T183129Z
UID:22883-1771844400-1771873200@events.kyma.com
SUMMARY:Arizona Traveling Museum
DESCRIPTION:Tuesday\, February 24\, 2026\n11:00 a.m. – 7:00 p.m. \nColorado River State Historic Park\n201 N. 4th Avenue \ncoloradoriverpark.com \nBringing American history and Arizona’s story to life with immersive panels\, video\, and interactive experiences for all ages. \nSee a replica of the Liberty Bell – one of only a limited number in the country. \nShare your voice through the Dar America\, Love Arizona poscard activity. \nA unique experience you do not want to miss. \nFun activities\, live entertainment\, fun photo ops and food vendors
URL:https://events.kyma.com/event/arizona-traveling-museum/
LOCATION:AZ
CATEGORIES:Community,Fairs and Festivals,Food and Drink
ATTACH;FMTTYPE=image/jpeg:https://events.kyma.com/wp-content/uploads/2026/02/ArizonaTravelingMuseum-11x17-V2-scaled.jpg
END:VEVENT
BEGIN:VEVENT
DTSTART;TZID=America/Los_Angeles:20260312T080000
DTEND;TZID=America/Los_Angeles:20260312T220000
DTSTAMP:20260424T021329
CREATED:20260305T185148Z
LAST-MODIFIED:20260305T185148Z
UID:23247-1773302400-1773352800@events.kyma.com
SUMMARY:Talent Marketplace
DESCRIPTION:Talent Marketplace\nWhere employers discover workforce – ready talent \nMorning of March 12th \n\nPre-screened job seekers\nResume-ready candidates\nOn-the-job training eligible participants\nOn-site interviews encouraged\nDirect access to motivated talent\n\nHow it works \n\nThis is not a traditional job fair\nConnecting employers with motivated talent\nUp to 75% wage reimbursement for eligible OJT hires\n\nConnect with on-the-job training ready talent on site
URL:https://events.kyma.com/event/talent-marketplace/
LOCATION:AZ
CATEGORIES:Fairs and Festivals,Other
ATTACH;FMTTYPE=image/png:https://events.kyma.com/wp-content/uploads/2026/03/Talent-Market-Place-Event.png
END:VEVENT
BEGIN:VEVENT
DTSTART;TZID=America/Los_Angeles:20260313T190000
DTEND;TZID=America/Los_Angeles:20260313T210000
DTSTAMP:20260424T021329
CREATED:20260202T235453Z
LAST-MODIFIED:20260202T235458Z
UID:22789-1773428400-1773435600@events.kyma.com
SUMMARY:23rd Annual Rocking Tribute to the King
DESCRIPTION:Back by popular demand – shake\, rattle & roll! \nThe 23rd annual rockin’ tribute to the king \nstarring Scot Bruce \nFriday\, March 13\, 2026 at 7 p.m. \nAdvance Tickets: $20\nChildren 12 & under: $15 \nTickets available here \nProceeds benefit Yuma Council for CASA\, Inc.
URL:https://events.kyma.com/event/23rd-annual-rocking-tribute-to-the-king/
LOCATION:Yuma Civic Center\, 1440 West Desert Hills Drive\, Yuma\, AZ\, 85365\, United States
CATEGORIES:Community,Fairs and Festivals,Fundraisers and Galas
ATTACH;FMTTYPE=application/pdf:https://events.kyma.com/wp-content/uploads/2026/02/49442-YCCI-Elvis-Flyer-with-QR-8.5x5.5-RED.pdf
END:VEVENT
BEGIN:VEVENT
DTSTART;TZID=America/Los_Angeles:20260328T190000
DTEND;TZID=America/Los_Angeles:20260328T220000
DTSTAMP:20260424T021329
CREATED:20260218T002105Z
LAST-MODIFIED:20260218T002105Z
UID:22971-1774724400-1774735200@events.kyma.com
SUMMARY:Imperial Valley Symphony presents Spring Serenade
DESCRIPTION:The Imperial Valley Symphony will play the Spring Serenade at the Jimmie Cannon Theater on March 28\, 2026\, starting at 7 p.m. \nThe concert includes music by Mendelssohn\, Tchaikosky and Beethoven. \nEach performance is a way to welcome spring in a relaxed setting. \nTickets are $15 each.
URL:https://events.kyma.com/event/imperial-valley-symphony-presents-spring-serenade/
LOCATION:Jimmie Cannon Theater at SHS\, 2001 Ocotillo Dr.\, El Centro\, 92243
CATEGORIES:Fairs and Festivals,Music
ATTACH;FMTTYPE=image/png:https://events.kyma.com/wp-content/uploads/2026/02/IV-Symphony-Spring-Serenade-2026-.png
END:VEVENT
BEGIN:VEVENT
DTSTART;TZID=America/Los_Angeles:20260417T193000
DTEND;TZID=America/Los_Angeles:20260417T213000
DTSTAMP:20260424T021329
CREATED:20260407T205422Z
LAST-MODIFIED:20260407T205422Z
UID:23747-1776454200-1776461400@events.kyma.com
SUMMARY:Free Movie in the Park: Zootopia 2
DESCRIPTION:Free Movie in the Park: Zootopia 2 – Sponsored by National Bank of Arizona \nThe Town of Wellton invites residents and visitors to attend a free community Movie in the Park event. \nDate: Friday\, April 17Time: 7:30 PMLocation: Butterfield Park \nEnjoy a fun\, family-friendly evening under the stars featuring Zootopia 2. \nEvent Highlights:• Free popcorn• Food vendors on site \nAttendees are encouraged to bring blankets and lawn chairs for seating. \nThe Town of Wellton extends its sincere appreciation to National Bank of Arizona for generously sponsoring this event and supporting family-friendly community programming. \nTogether We Make It Happen — Wellton\, Mighty in Spirit
URL:https://events.kyma.com/event/free-movie-in-the-park-zootopia-2/
LOCATION:Butterfield Park\, 10234 Dome Street\, Wellton\, AZ\, 85356\, United States
CATEGORIES:Community,Fairs and Festivals,Other,Theater
ATTACH;FMTTYPE=image/png:https://events.kyma.com/wp-content/uploads/2026/04/April-Movie-in-the-Park-Flyer-English.png
END:VEVENT
BEGIN:VEVENT
DTSTART;TZID=America/Los_Angeles:20260418T100000
DTEND;TZID=America/Los_Angeles:20260418T150000
DTSTAMP:20260424T021329
CREATED:20260212T213844Z
LAST-MODIFIED:20260212T213844Z
UID:22917-1776506400-1776524400@events.kyma.com
SUMMARY:Children's Festival of the Arts 2026
DESCRIPTION:The City of Yuma’s Arts and Culture Division invites the community to the 33rd annual Children’s Festival of the Arts on Saturday\, April 18\, 2026\, from 10 a.m. to 3 p.m. in front of the Yuma Art Center (254 south Main Street). This free\, family-friendly event is open to all ages. \nThis year’s festival features an America 250 theme in celebration of the nation’s 250th birthday. Interactive art activities and exhibits will highlight all 50 states\, national monuments\, and U.S. presidents. As part of the experience\, the Yuma Art Center galleries will be transformed into a “White House” inspired exhibit\, featuring symbolic recreations of rooms such as the Oval Office\, Blue Room\, East Room\, and Green Room. \nThroughout the day\, families can explore more than 50 free make-and-take art booths\, where children can create hands-on art projects and take home their own masterpieces. The event also includes a foam party\, food vendors\, community booths\, and live youth performances featuring local dance studios\, martial arts demonstrations\, and music acts. \nInside the Yuma Art Center\, visitors can explore the annual Youth Art Exhibition\, showcasing student artwork submitted by teachers from across Yuma County and Winterhaven. The exhibition features artwork from over 30 teachers\, representing grades K–12 in a wide variety of mediums\, including watercolor\, acrylic\, colored pencil\, graphite\, and ceramics. \n“Children’s Festival of the Arts is a celebration of creativity\, imagination\, and young voices\,” said Kristyn Trujillo\, Recreation Program Coordinator. “The festival gives students a chance to see their artwork displayed in a real gallery setting\, building confidence and pride in their work.” \nFor event details\, visit yumaaz.gov/ChildrensFest.
URL:https://events.kyma.com/event/childrens-festival-of-the-arts-2026/
LOCATION:Yuma Art Center\, 254 S Main St\, Yuma\, AZ\, 85364\, United States
CATEGORIES:Community,Education,Fairs and Festivals,Food and Drink
ATTACH;FMTTYPE=image/png:https://events.kyma.com/wp-content/uploads/2026/02/1ca2036f67388f68b4fd609399b6633f.png
END:VEVENT
BEGIN:VEVENT
DTSTART;TZID=America/Los_Angeles:20260502T090000
DTEND;TZID=America/Los_Angeles:20260502T130000
DTSTAMP:20260424T021329
CREATED:20260413T205923Z
LAST-MODIFIED:20260413T205923Z
UID:23829-1777712400-1777726800@events.kyma.com
SUMMARY:Recovery Palooza 2026
DESCRIPTION:14th Annual Recovery Palooza \nFree event – All are welcome – Bring your family \nFree food & drinks \nFun activities & games\, family fun\, music\, raffles \nOne of the biggest community events of the year \nCarver Park (398 S 13th Avenue) \nMay 2nd
URL:https://events.kyma.com/event/recovery-palooza-2026/
LOCATION:Carver Park\, S. 13th Ave and W. 5th St\, Yuma\, AZ\, 85364\, United States
CATEGORIES:Community,Fairs and Festivals
ATTACH;FMTTYPE=image/png:https://events.kyma.com/wp-content/uploads/2026/04/812db259-6a6b-420a-a8d3-d6301a2fa556.png
END:VEVENT
BEGIN:VEVENT
DTSTART;TZID=America/Los_Angeles:20260506T160000
DTEND;TZID=America/Los_Angeles:20260506T180000
DTSTAMP:20260424T021329
CREATED:20260219T220411Z
LAST-MODIFIED:20260223T202742Z
UID:22990-1778083200-1778090400@events.kyma.com
SUMMARY:2026 Small Business Resource Fair
DESCRIPTION:Discover the tools\, guidance\, and support available to help your small business start\, grow\, and thrive! \nMeet with local business organizations\, government agencies\, and resource partners ready to answer your questions and connect you with services that can move your business forward. This no‑cost event is open to anyone looking to build or strengthen their business. \n📅 Wednesday\, May 6\, 2026 ⏰ 4:00 p.m. – 6:00 p.m. 📍 Martin Luther King Jr. Youth Career Center 300 S 13th Ave.\, Yuma\, AZ 85364 \nPrizes will be available during the event! \nFor more details\, contact (928) 317‑6151 or teamsbdc@azwestern.edu.
URL:https://events.kyma.com/event/2026-small-business-resource-fair/
LOCATION:Arizona Western College Small Business Development Center\, 1351 S Redondo Center Drive\, Yuma\, AZ\, 85365\, United States
CATEGORIES:Community,Education,Fairs and Festivals
ATTACH;FMTTYPE=image/jpeg:https://events.kyma.com/wp-content/uploads/2026/02/EVENT-Small-Business-Resource-Fair-LOCATION-MLK-Youth-Career-Center-DATE-May-6th-2026-1.jpg
ORGANIZER;CN="Small Business Development Center":MAILTO:teamsbdc@azwestern.edu
END:VEVENT
END:VCALENDAR