BEGIN:VCALENDAR
VERSION:2.0
PRODID:-//KYMA Events - ECPv6.15.20//NONSGML v1.0//EN
CALSCALE:GREGORIAN
METHOD:PUBLISH
X-ORIGINAL-URL:https://events.kyma.com
X-WR-CALDESC:Events for KYMA Events
REFRESH-INTERVAL;VALUE=DURATION:PT1H
X-Robots-Tag:noindex
X-PUBLISHED-TTL:PT1H
BEGIN:VTIMEZONE
TZID:America/Los_Angeles
BEGIN:DAYLIGHT
TZOFFSETFROM:-0800
TZOFFSETTO:-0700
TZNAME:PDT
DTSTART:20230312T100000
END:DAYLIGHT
BEGIN:STANDARD
TZOFFSETFROM:-0700
TZOFFSETTO:-0800
TZNAME:PST
DTSTART:20231105T090000
END:STANDARD
BEGIN:DAYLIGHT
TZOFFSETFROM:-0800
TZOFFSETTO:-0700
TZNAME:PDT
DTSTART:20240310T100000
END:DAYLIGHT
BEGIN:STANDARD
TZOFFSETFROM:-0700
TZOFFSETTO:-0800
TZNAME:PST
DTSTART:20241103T090000
END:STANDARD
BEGIN:DAYLIGHT
TZOFFSETFROM:-0800
TZOFFSETTO:-0700
TZNAME:PDT
DTSTART:20250309T100000
END:DAYLIGHT
BEGIN:STANDARD
TZOFFSETFROM:-0700
TZOFFSETTO:-0800
TZNAME:PST
DTSTART:20251102T090000
END:STANDARD
END:VTIMEZONE
BEGIN:VEVENT
DTSTART;TZID=America/Los_Angeles:20240524T090000
DTEND;TZID=America/Los_Angeles:20240524T220000
DTSTAMP:20260424T041519
CREATED:20240514T201001Z
LAST-MODIFIED:20240514T201001Z
UID:5264-1716541200-1716588000@events.kyma.com
SUMMARY:Kindness Foundation Fundraiser at Panda Express
DESCRIPTION:In Yuma County\, at-risk youth and first-generation high school seniors face significant barriers that impede their academic success and future prospects. With a decline in post-secondary education enrollment rates\, many of these students are left with limited options and are more susceptible to engaging in drug-related activities and criminal behaviors. The lack of interest in pursuing educational opportunities exacerbates the cycle of poverty and increases the likelihood of youth turning to drugs and crime for alternative paths. Urgent intervention is required to address this pressing issue and provide comprehensive support to these students. As part of the solution\, our “First Generation” initiative aims to not only provide laptops for academic success but also to support sports activities by covering school fees and providing allowances for basic sports necessities. Through these efforts\, we aim to empower at-risk youth to pursue education and healthy activities\, ultimately breaking the cycle of disadvantage in our community.\n\nOur goal for next academic year\, May 2025\, is to offer 100 FREE/Complimentary laptops to upcoming first generation/ low-income high school seniors pursuing college opportunities.
URL:https://events.kyma.com/event/kindness-foundation-fundraiser-at-panda-express/
LOCATION:Panda Express Avenue B\, 2495 South Avenue B\, Yuma\, AZ\, 85364\, United States
CATEGORIES:Community,Food and Drink,Fundraisers and Galas,Other
ATTACH;FMTTYPE=image/png:https://events.kyma.com/wp-content/uploads/2024/05/Annotation-2024-05-14-130237.png
END:VEVENT
BEGIN:VEVENT
DTSTART;TZID=America/Los_Angeles:20240524T190000
DTEND;TZID=America/Los_Angeles:20240524T210000
DTSTAMP:20260424T041519
CREATED:20240510T201829Z
LAST-MODIFIED:20240510T201829Z
UID:5209-1716577200-1716584400@events.kyma.com
SUMMARY:Lutes Summer Jazz Series
DESCRIPTION:Great live jazz featuring the Yuma Jazz Company Quartet and guest performers happens every other Friday evening through the summer at Lutes Casino. Complimenting the music\, the restaurant supplies its famous food & icy cold drinks. Event details YumaJazz.com
URL:https://events.kyma.com/event/lutes-summer-jazz-series/
LOCATION:Lutes Casino\, 221 S Main Street\, Yuma\, 85364
CATEGORIES:Food and Drink,Music
ATTACH;FMTTYPE=image/jpeg:https://events.kyma.com/wp-content/uploads/2024/05/24-LutesCasino-Jazz-Series-Proof-05.jpg
ORGANIZER;CN="Steven Hennig":MAILTO:yumajazz@gmail.com
END:VEVENT
BEGIN:VEVENT
DTSTART;TZID=America/Los_Angeles:20240524T230000
DTEND;TZID=America/Los_Angeles:20240525T030000
DTSTAMP:20260424T041519
CREATED:20240509T192715Z
LAST-MODIFIED:20240509T192715Z
UID:5190-1716591600-1716606000@events.kyma.com
SUMMARY:2024 Seniors In The Glow Grad Night
DESCRIPTION:Join us on Friday\, May 24\, 2024\, at the iconic Desert Sun Stadium as we transform it into an electrifying oasis of fun and excitement. Gates open at 11 pm\, and the party doesn’t stop until the break of dawn at 3 am! At Grad Night\, our utmost priority is to provide a safe\, fun\, and drug-free environment for our teen community\, ensuring that every moment is filled with joy and positivity. This is your chance to shine brighter than ever\, surrounded by your fellow graduates and friends.
URL:https://events.kyma.com/event/2024-seniors-in-the-glow-grad-night/
LOCATION:Desert Sun Stadium\, 1280 Desert Sun Drive\, Yuma\, AZ\, 85364\, United States
CATEGORIES:Community,Food and Drink,Music,Other
ATTACH;FMTTYPE=image/png:https://events.kyma.com/wp-content/uploads/2024/05/glow-grad-night.png
END:VEVENT
END:VCALENDAR