BEGIN:VCALENDAR
VERSION:2.0
PRODID:-//KYMA Events - ECPv6.15.20//NONSGML v1.0//EN
CALSCALE:GREGORIAN
METHOD:PUBLISH
X-WR-CALNAME:KYMA Events
X-ORIGINAL-URL:https://events.kyma.com
X-WR-CALDESC:Events for KYMA Events
REFRESH-INTERVAL;VALUE=DURATION:PT1H
X-Robots-Tag:noindex
X-PUBLISHED-TTL:PT1H
BEGIN:VTIMEZONE
TZID:America/Los_Angeles
BEGIN:DAYLIGHT
TZOFFSETFROM:-0800
TZOFFSETTO:-0700
TZNAME:PDT
DTSTART:20220313T100000
END:DAYLIGHT
BEGIN:STANDARD
TZOFFSETFROM:-0700
TZOFFSETTO:-0800
TZNAME:PST
DTSTART:20221106T090000
END:STANDARD
BEGIN:DAYLIGHT
TZOFFSETFROM:-0800
TZOFFSETTO:-0700
TZNAME:PDT
DTSTART:20230312T100000
END:DAYLIGHT
BEGIN:STANDARD
TZOFFSETFROM:-0700
TZOFFSETTO:-0800
TZNAME:PST
DTSTART:20231105T090000
END:STANDARD
BEGIN:DAYLIGHT
TZOFFSETFROM:-0800
TZOFFSETTO:-0700
TZNAME:PDT
DTSTART:20240310T100000
END:DAYLIGHT
BEGIN:STANDARD
TZOFFSETFROM:-0700
TZOFFSETTO:-0800
TZNAME:PST
DTSTART:20241103T090000
END:STANDARD
END:VTIMEZONE
BEGIN:VEVENT
DTSTART;TZID=America/Los_Angeles:20230703T180000
DTEND;TZID=America/Los_Angeles:20230703T220000
DTSTAMP:20260419T122136
CREATED:20230628T173559Z
LAST-MODIFIED:20230628T173559Z
UID:2931-1688407200-1688421600@events.kyma.com
SUMMARY:Third of July Celebration
DESCRIPTION:Fireworks Show \nMonday\, July 3 at 9 p.m. \nOn Monday\, July 3\, 2023\, Paradise Casino will host an early Independence Celebration fireworks show featuring food vendors\,\nentertainment by Checker’d Past\, DJ Bobby\, jumpers\, and free treats for the entire family. \nA variety of booths will be available where we will provide free popcorn\, cotton candy\, snow cones\, soft drinks & water\, from 7:00 p.m. – 9:30 p.m. in the South Parking lot. Food vendors will also be on site selling a variety of different foods. We are bringing back the FreestyleMX.com motorcycle stunt team. They will perform three 25 minutes sets of stunts and jumps. \nBleacher seating will be available in the parking lot for guests to use at their discretion. Guests may also bring lawn chairs or similar seats to view the fireworks display at 9:30 p.m. Guests may bring bottled water or other labeled (non-alcoholic) drinks. \nNo coolers will be permitted. \nOur fireworks display will take place on the casino grounds at approximately 9:30 pm. The fireworks show will be 25 – 30 minutes long. We will have live entertainment during this event and KTTI 95.1-FM will be on site doing a live remote and will be featuring a musical simulcast. \nTimeline: (subject to change) \n6:00 p.m. Doors Open\n6:00pm-6:45pm DJ Bobby/Checker’d Past\n6:45pm Flag raising by American Legion Post 802\n7:00pm Welcome and announcements by Kyle Gawthorp\nFood & booths open\n7:00pm – 7:25pm Motorcycle stunt jumps\n7:25pm – 8:00pm Checker’d Past/DJ Bobby\n8:00pm – 8:25pm Motorcycle stunt jumps\n8:25pm – 9:00pm Checker’d Past/DJ Bobby\n9:00pm – 9:25pm Motorcycle stunt jumps\n9:25pm – 9:30 pm DJ Bobby – QPC food and booths close\n9:30pm Fireworks begin\n10:00 pm Show ends\n*Jump times may change depending on weather conditions*
URL:https://events.kyma.com/event/third-of-july-celebration/
LOCATION:Paradise Casino\, 450 Quechan Dr\, Yuma\, AZ\, 85364\, United States
CATEGORIES:Community,Food and Drink,Music,Other
ATTACH;FMTTYPE=image/png:https://events.kyma.com/wp-content/uploads/2023/06/Web-Paradise-3rd-of-July-Promotion-1.png
END:VEVENT
BEGIN:VEVENT
DTSTART;TZID=America/Los_Angeles:20230422T120000
DTEND;TZID=America/Los_Angeles:20230422T140000
DTSTAMP:20260419T122136
CREATED:20230411T205425Z
LAST-MODIFIED:20230412T174210Z
UID:2560-1682164800-1682172000@events.kyma.com
SUMMARY:Jose Ramirez Meet & Greet
DESCRIPTION:Paradise Casino is opening their doors to boxing fans for a personal meet and greet with top ranked Junior Welterweight\, Jose Ramirez. Saturday\, April 22\, all ages are welcome to visit for pictures and autograph signing from 12pm – 2pm. \nThe former US Olympian has an impressive boxing record of 28-1 and is a former unified light welterweight champion holding the WBC title from 2018 to May 2021 and WBO title from 2019 to May 2021. \nComing off his recent 11th round knock-out of Richard Commey on March 25 in Fresno\, California\, Jose Ramirez is poised to regain a championship belt of his own. \nFans are encouraged to come out and meet the top ranked fighter and visit the Paradise Sportsbook to make their in-person wagers on the highly anticipated Davis V. Garcia fight.
URL:https://events.kyma.com/event/jose-ramirez-meet-greet/
LOCATION:Paradise Casino\, 450 Quechan Dr\, Yuma\, AZ\, 85364\, United States
CATEGORIES:Other,Sports
ATTACH;FMTTYPE=image/jpeg:https://events.kyma.com/wp-content/uploads/2023/04/12776-2-PC_JoseRamirez_FacebookResizeMG_1200x628.jpg
END:VEVENT
END:VCALENDAR