BEGIN:VCALENDAR
VERSION:2.0
PRODID:-//KYMA Events - ECPv6.15.20//NONSGML v1.0//EN
CALSCALE:GREGORIAN
METHOD:PUBLISH
X-WR-CALNAME:KYMA Events
X-ORIGINAL-URL:https://events.kyma.com
X-WR-CALDESC:Events for KYMA Events
REFRESH-INTERVAL;VALUE=DURATION:PT1H
X-Robots-Tag:noindex
X-PUBLISHED-TTL:PT1H
BEGIN:VTIMEZONE
TZID:America/Los_Angeles
BEGIN:DAYLIGHT
TZOFFSETFROM:-0800
TZOFFSETTO:-0700
TZNAME:PDT
DTSTART:20250309T100000
END:DAYLIGHT
BEGIN:STANDARD
TZOFFSETFROM:-0700
TZOFFSETTO:-0800
TZNAME:PST
DTSTART:20251102T090000
END:STANDARD
BEGIN:DAYLIGHT
TZOFFSETFROM:-0800
TZOFFSETTO:-0700
TZNAME:PDT
DTSTART:20260308T100000
END:DAYLIGHT
BEGIN:STANDARD
TZOFFSETFROM:-0700
TZOFFSETTO:-0800
TZNAME:PST
DTSTART:20261101T090000
END:STANDARD
BEGIN:DAYLIGHT
TZOFFSETFROM:-0800
TZOFFSETTO:-0700
TZNAME:PDT
DTSTART:20270314T100000
END:DAYLIGHT
BEGIN:STANDARD
TZOFFSETFROM:-0700
TZOFFSETTO:-0800
TZNAME:PST
DTSTART:20271107T090000
END:STANDARD
END:VTIMEZONE
BEGIN:VEVENT
DTSTART;TZID=America/Los_Angeles:20260227T190000
DTEND;TZID=America/Los_Angeles:20260227T220000
DTSTAMP:20260424T142041
CREATED:20260225T185420Z
LAST-MODIFIED:20260225T185420Z
UID:23081-1772218800-1772229600@events.kyma.com
SUMMARY:Wrestling
DESCRIPTION:  \n🔥 LIVE PRO WRESTLING ACTION 🔥 \nPresented by Venue Wrestling Entertainment \n📅 Friday\, February 27\, 2026 \n📍 Prestige Event Center \n1111 Yourman Road – Heber\, CA \n🚨 SINGLES MATCH MAIN EVENT 🚨 \nSuper Crazy vs Anarky \n💥 Lucha Libre En Vivo \n💥 High-Flying Action \n💥 Hard-Hitting Competition \n⏰ Doors Open: 7PM \n🔔 Bell Time: 8PM \n📞 Info: (760) 540-4924 \n🎟 Indoor Event \nDon’t miss the action — Bring the whole family!
URL:https://events.kyma.com/event/wrestling/
LOCATION:Prestige Event Center\, 1111 Yourman Rd\, Heber\, CA\, 92249\, United States
ATTACH;FMTTYPE=image/jpeg:https://events.kyma.com/wp-content/uploads/2026/02/IMG_0381-3.jpeg
ORGANIZER;CN="Venue Wrestling Entertainment":MAILTO:88dale1208@gmail.com
END:VEVENT
END:VCALENDAR