BEGIN:VCALENDAR
VERSION:2.0
PRODID:-//KYMA Events - ECPv6.15.20//NONSGML v1.0//EN
CALSCALE:GREGORIAN
METHOD:PUBLISH
X-ORIGINAL-URL:https://events.kyma.com
X-WR-CALDESC:Events for KYMA Events
REFRESH-INTERVAL;VALUE=DURATION:PT1H
X-Robots-Tag:noindex
X-PUBLISHED-TTL:PT1H
BEGIN:VTIMEZONE
TZID:America/Los_Angeles
BEGIN:DAYLIGHT
TZOFFSETFROM:-0800
TZOFFSETTO:-0700
TZNAME:PDT
DTSTART:20250309T100000
END:DAYLIGHT
BEGIN:STANDARD
TZOFFSETFROM:-0700
TZOFFSETTO:-0800
TZNAME:PST
DTSTART:20251102T090000
END:STANDARD
BEGIN:DAYLIGHT
TZOFFSETFROM:-0800
TZOFFSETTO:-0700
TZNAME:PDT
DTSTART:20260308T100000
END:DAYLIGHT
BEGIN:STANDARD
TZOFFSETFROM:-0700
TZOFFSETTO:-0800
TZNAME:PST
DTSTART:20261101T090000
END:STANDARD
BEGIN:DAYLIGHT
TZOFFSETFROM:-0800
TZOFFSETTO:-0700
TZNAME:PDT
DTSTART:20270314T100000
END:DAYLIGHT
BEGIN:STANDARD
TZOFFSETFROM:-0700
TZOFFSETTO:-0800
TZNAME:PST
DTSTART:20271107T090000
END:STANDARD
BEGIN:DAYLIGHT
TZOFFSETFROM:-0800
TZOFFSETTO:-0700
TZNAME:PDT
DTSTART:20280312T100000
END:DAYLIGHT
BEGIN:STANDARD
TZOFFSETFROM:-0700
TZOFFSETTO:-0800
TZNAME:PST
DTSTART:20281105T090000
END:STANDARD
END:VTIMEZONE
BEGIN:VEVENT
DTSTART;TZID=America/Los_Angeles:20260513T160000
DTEND;TZID=America/Los_Angeles:20260513T170000
DTSTAMP:20260423T074743
CREATED:20260226T165521Z
LAST-MODIFIED:20260226T165521Z
UID:23126-1778688000-1778691600@events.kyma.com
SUMMARY:Veteran Benefit Assistance
DESCRIPTION:Assist Veterans with filing benefit paperwork
URL:https://events.kyma.com/event/veteran-benefit-assistance/2026-05-13/
LOCATION:LaDona\, 12415 S Frontage Rd\, Yuma\, AZ\, 85367\, United States
CATEGORIES:Community
ORGANIZER;CN="Yuma AMVETS Post 25":MAILTO:dnmacdonald@aol.com
END:VEVENT
BEGIN:VEVENT
DTSTART;TZID=America/Los_Angeles:20260610T160000
DTEND;TZID=America/Los_Angeles:20260610T170000
DTSTAMP:20260423T074743
CREATED:20260226T165521Z
LAST-MODIFIED:20260226T165521Z
UID:23127-1781107200-1781110800@events.kyma.com
SUMMARY:Veteran Benefit Assistance
DESCRIPTION:Assist Veterans with filing benefit paperwork
URL:https://events.kyma.com/event/veteran-benefit-assistance/2026-06-10/
LOCATION:LaDona\, 12415 S Frontage Rd\, Yuma\, AZ\, 85367\, United States
CATEGORIES:Community
ORGANIZER;CN="Yuma AMVETS Post 25":MAILTO:dnmacdonald@aol.com
END:VEVENT
BEGIN:VEVENT
DTSTART;TZID=America/Los_Angeles:20260708T160000
DTEND;TZID=America/Los_Angeles:20260708T170000
DTSTAMP:20260423T074743
CREATED:20260226T165522Z
LAST-MODIFIED:20260226T165522Z
UID:23128-1783526400-1783530000@events.kyma.com
SUMMARY:Veteran Benefit Assistance
DESCRIPTION:Assist Veterans with filing benefit paperwork
URL:https://events.kyma.com/event/veteran-benefit-assistance/2026-07-08/
LOCATION:LaDona\, 12415 S Frontage Rd\, Yuma\, AZ\, 85367\, United States
CATEGORIES:Community
ORGANIZER;CN="Yuma AMVETS Post 25":MAILTO:dnmacdonald@aol.com
END:VEVENT
BEGIN:VEVENT
DTSTART;TZID=America/Los_Angeles:20260812T160000
DTEND;TZID=America/Los_Angeles:20260812T170000
DTSTAMP:20260423T074743
CREATED:20260226T165522Z
LAST-MODIFIED:20260226T165522Z
UID:23129-1786550400-1786554000@events.kyma.com
SUMMARY:Veteran Benefit Assistance
DESCRIPTION:Assist Veterans with filing benefit paperwork
URL:https://events.kyma.com/event/veteran-benefit-assistance/2026-08-12/
LOCATION:LaDona\, 12415 S Frontage Rd\, Yuma\, AZ\, 85367\, United States
CATEGORIES:Community
ORGANIZER;CN="Yuma AMVETS Post 25":MAILTO:dnmacdonald@aol.com
END:VEVENT
BEGIN:VEVENT
DTSTART;TZID=America/Los_Angeles:20260909T160000
DTEND;TZID=America/Los_Angeles:20260909T170000
DTSTAMP:20260423T074743
CREATED:20260226T165522Z
LAST-MODIFIED:20260226T165522Z
UID:23130-1788969600-1788973200@events.kyma.com
SUMMARY:Veteran Benefit Assistance
DESCRIPTION:Assist Veterans with filing benefit paperwork
URL:https://events.kyma.com/event/veteran-benefit-assistance/2026-09-09/
LOCATION:LaDona\, 12415 S Frontage Rd\, Yuma\, AZ\, 85367\, United States
CATEGORIES:Community
ORGANIZER;CN="Yuma AMVETS Post 25":MAILTO:dnmacdonald@aol.com
END:VEVENT
BEGIN:VEVENT
DTSTART;TZID=America/Los_Angeles:20261014T160000
DTEND;TZID=America/Los_Angeles:20261014T170000
DTSTAMP:20260423T074743
CREATED:20260226T165522Z
LAST-MODIFIED:20260226T165522Z
UID:23131-1791993600-1791997200@events.kyma.com
SUMMARY:Veteran Benefit Assistance
DESCRIPTION:Assist Veterans with filing benefit paperwork
URL:https://events.kyma.com/event/veteran-benefit-assistance/2026-10-14/
LOCATION:LaDona\, 12415 S Frontage Rd\, Yuma\, AZ\, 85367\, United States
CATEGORIES:Community
ORGANIZER;CN="Yuma AMVETS Post 25":MAILTO:dnmacdonald@aol.com
END:VEVENT
BEGIN:VEVENT
DTSTART;TZID=America/Los_Angeles:20261111T160000
DTEND;TZID=America/Los_Angeles:20261111T170000
DTSTAMP:20260423T074743
CREATED:20260226T165522Z
LAST-MODIFIED:20260226T165522Z
UID:23132-1794412800-1794416400@events.kyma.com
SUMMARY:Veteran Benefit Assistance
DESCRIPTION:Assist Veterans with filing benefit paperwork
URL:https://events.kyma.com/event/veteran-benefit-assistance/2026-11-11/
LOCATION:LaDona\, 12415 S Frontage Rd\, Yuma\, AZ\, 85367\, United States
CATEGORIES:Community
ORGANIZER;CN="Yuma AMVETS Post 25":MAILTO:dnmacdonald@aol.com
END:VEVENT
BEGIN:VEVENT
DTSTART;TZID=America/Los_Angeles:20261209T160000
DTEND;TZID=America/Los_Angeles:20261209T170000
DTSTAMP:20260423T074743
CREATED:20260226T165522Z
LAST-MODIFIED:20260226T165522Z
UID:23133-1796832000-1796835600@events.kyma.com
SUMMARY:Veteran Benefit Assistance
DESCRIPTION:Assist Veterans with filing benefit paperwork
URL:https://events.kyma.com/event/veteran-benefit-assistance/2026-12-09/
LOCATION:LaDona\, 12415 S Frontage Rd\, Yuma\, AZ\, 85367\, United States
CATEGORIES:Community
ORGANIZER;CN="Yuma AMVETS Post 25":MAILTO:dnmacdonald@aol.com
END:VEVENT
BEGIN:VEVENT
DTSTART;TZID=America/Los_Angeles:20270113T160000
DTEND;TZID=America/Los_Angeles:20270113T170000
DTSTAMP:20260423T074743
CREATED:20260226T165523Z
LAST-MODIFIED:20260226T165523Z
UID:23134-1799856000-1799859600@events.kyma.com
SUMMARY:Veteran Benefit Assistance
DESCRIPTION:Assist Veterans with filing benefit paperwork
URL:https://events.kyma.com/event/veteran-benefit-assistance/2027-01-13/
LOCATION:LaDona\, 12415 S Frontage Rd\, Yuma\, AZ\, 85367\, United States
CATEGORIES:Community
ORGANIZER;CN="Yuma AMVETS Post 25":MAILTO:dnmacdonald@aol.com
END:VEVENT
BEGIN:VEVENT
DTSTART;TZID=America/Los_Angeles:20270210T160000
DTEND;TZID=America/Los_Angeles:20270210T170000
DTSTAMP:20260423T074743
CREATED:20260226T165527Z
LAST-MODIFIED:20260226T165527Z
UID:23139-1802275200-1802278800@events.kyma.com
SUMMARY:Veteran Benefit Assistance
DESCRIPTION:Assist Veterans with filing benefit paperwork
URL:https://events.kyma.com/event/veteran-benefit-assistance/2027-02-10/
LOCATION:LaDona\, 12415 S Frontage Rd\, Yuma\, AZ\, 85367\, United States
CATEGORIES:Community
ORGANIZER;CN="Yuma AMVETS Post 25":MAILTO:dnmacdonald@aol.com
END:VEVENT
END:VCALENDAR