BEGIN:VCALENDAR
VERSION:2.0
PRODID:-//KYMA Events - ECPv6.15.20//NONSGML v1.0//EN
CALSCALE:GREGORIAN
METHOD:PUBLISH
X-WR-CALNAME:KYMA Events
X-ORIGINAL-URL:https://events.kyma.com
X-WR-CALDESC:Events for KYMA Events
REFRESH-INTERVAL;VALUE=DURATION:PT1H
X-Robots-Tag:noindex
X-PUBLISHED-TTL:PT1H
BEGIN:VTIMEZONE
TZID:America/Los_Angeles
BEGIN:DAYLIGHT
TZOFFSETFROM:-0800
TZOFFSETTO:-0700
TZNAME:PDT
DTSTART:20230312T100000
END:DAYLIGHT
BEGIN:STANDARD
TZOFFSETFROM:-0700
TZOFFSETTO:-0800
TZNAME:PST
DTSTART:20231105T090000
END:STANDARD
BEGIN:DAYLIGHT
TZOFFSETFROM:-0800
TZOFFSETTO:-0700
TZNAME:PDT
DTSTART:20240310T100000
END:DAYLIGHT
BEGIN:STANDARD
TZOFFSETFROM:-0700
TZOFFSETTO:-0800
TZNAME:PST
DTSTART:20241103T090000
END:STANDARD
BEGIN:DAYLIGHT
TZOFFSETFROM:-0800
TZOFFSETTO:-0700
TZNAME:PDT
DTSTART:20250309T100000
END:DAYLIGHT
BEGIN:STANDARD
TZOFFSETFROM:-0700
TZOFFSETTO:-0800
TZNAME:PST
DTSTART:20251102T090000
END:STANDARD
END:VTIMEZONE
BEGIN:VEVENT
DTSTART;TZID=America/Los_Angeles:20240524T230000
DTEND;TZID=America/Los_Angeles:20240525T030000
DTSTAMP:20260419T070446
CREATED:20240509T192715Z
LAST-MODIFIED:20240509T192715Z
UID:5190-1716591600-1716606000@events.kyma.com
SUMMARY:2024 Seniors In The Glow Grad Night
DESCRIPTION:Join us on Friday\, May 24\, 2024\, at the iconic Desert Sun Stadium as we transform it into an electrifying oasis of fun and excitement. Gates open at 11 pm\, and the party doesn’t stop until the break of dawn at 3 am! At Grad Night\, our utmost priority is to provide a safe\, fun\, and drug-free environment for our teen community\, ensuring that every moment is filled with joy and positivity. This is your chance to shine brighter than ever\, surrounded by your fellow graduates and friends.
URL:https://events.kyma.com/event/2024-seniors-in-the-glow-grad-night/
LOCATION:Desert Sun Stadium\, 1280 Desert Sun Drive\, Yuma\, AZ\, 85364\, United States
CATEGORIES:Community,Food and Drink,Music,Other
ATTACH;FMTTYPE=image/png:https://events.kyma.com/wp-content/uploads/2024/05/glow-grad-night.png
END:VEVENT
BEGIN:VEVENT
DTSTART;TZID=America/Los_Angeles:20240128T120000
DTEND;TZID=America/Los_Angeles:20240128T140000
DTSTAMP:20260419T070446
CREATED:20240123T205453Z
LAST-MODIFIED:20240123T221342Z
UID:4422-1706443200-1706450400@events.kyma.com
SUMMARY:Community CARES Conversations
DESCRIPTION:“Community CARES Conversations\,” is scheduled for Sunday\, January 28\, 2024\, at noon at Journey Church. We believe that sharing this initiative will not only benefit Yuma County Anti-Drug Coalition but also contribute to raising awareness in the Yuma community. \nJoin us in the Yuma CARES movement as we shine a spotlight on the importance of living a Vape Free Life. Let’s break free from the cloud of misinformation and prioritize our health and well-being.
URL:https://events.kyma.com/event/community-cares-conversations/
LOCATION:The Journey Church\, 3225 E. County 14th Street\, Yuma\, AZ\, 85365\, United States
CATEGORIES:Community,Education,Other
ATTACH;FMTTYPE=image/png:https://events.kyma.com/wp-content/uploads/2024/01/YCADC-Community-CARE-Conversations-Instagram-Post.png
END:VEVENT
END:VCALENDAR