BEGIN:VCALENDAR
VERSION:2.0
PRODID:-//KYMA Events - ECPv6.15.20//NONSGML v1.0//EN
CALSCALE:GREGORIAN
METHOD:PUBLISH
X-ORIGINAL-URL:https://events.kyma.com
X-WR-CALDESC:Events for KYMA Events
REFRESH-INTERVAL;VALUE=DURATION:PT1H
X-Robots-Tag:noindex
X-PUBLISHED-TTL:PT1H
BEGIN:VTIMEZONE
TZID:America/Los_Angeles
BEGIN:DAYLIGHT
TZOFFSETFROM:-0800
TZOFFSETTO:-0700
TZNAME:PDT
DTSTART:20220313T100000
END:DAYLIGHT
BEGIN:STANDARD
TZOFFSETFROM:-0700
TZOFFSETTO:-0800
TZNAME:PST
DTSTART:20221106T090000
END:STANDARD
BEGIN:DAYLIGHT
TZOFFSETFROM:-0800
TZOFFSETTO:-0700
TZNAME:PDT
DTSTART:20230312T100000
END:DAYLIGHT
BEGIN:STANDARD
TZOFFSETFROM:-0700
TZOFFSETTO:-0800
TZNAME:PST
DTSTART:20231105T090000
END:STANDARD
BEGIN:DAYLIGHT
TZOFFSETFROM:-0800
TZOFFSETTO:-0700
TZNAME:PDT
DTSTART:20240310T100000
END:DAYLIGHT
BEGIN:STANDARD
TZOFFSETFROM:-0700
TZOFFSETTO:-0800
TZNAME:PST
DTSTART:20241103T090000
END:STANDARD
END:VTIMEZONE
BEGIN:VEVENT
DTSTART;VALUE=DATE:20230415
DTEND;VALUE=DATE:20230416
DTSTAMP:20260419T121936
CREATED:20230411T172653Z
LAST-MODIFIED:20230411T172653Z
UID:2557-1681516800-1681603199@events.kyma.com
SUMMARY:Get Axed Grand Opening
DESCRIPTION:Get Axed will have its grand opening on April 15! \nFor more information\, go to getaxed.com/yuma. \nTo reserve\, click HERE. \nRESERVATION HOURS \nSun 12pm to 10pm \nMon – Thur 4pm to 10pm \nFri 4pm to Midnight \n​Sat 12pm to Midnight
URL:https://events.kyma.com/event/get-axed-grand-opening/
LOCATION:Get Axed\, 1305 S Yuma Palms Pkwy Space L2\, Yuma\, 85365\, United States
CATEGORIES:Food and Drink,Other,Sports
END:VEVENT
END:VCALENDAR