BEGIN:VCALENDAR
VERSION:2.0
PRODID:-//KYMA Events - ECPv6.15.20//NONSGML v1.0//EN
CALSCALE:GREGORIAN
METHOD:PUBLISH
X-WR-CALNAME:KYMA Events
X-ORIGINAL-URL:https://events.kyma.com
X-WR-CALDESC:Events for KYMA Events
REFRESH-INTERVAL;VALUE=DURATION:PT1H
X-Robots-Tag:noindex
X-PUBLISHED-TTL:PT1H
BEGIN:VTIMEZONE
TZID:America/Los_Angeles
BEGIN:DAYLIGHT
TZOFFSETFROM:-0800
TZOFFSETTO:-0700
TZNAME:PDT
DTSTART:20250309T100000
END:DAYLIGHT
BEGIN:STANDARD
TZOFFSETFROM:-0700
TZOFFSETTO:-0800
TZNAME:PST
DTSTART:20251102T090000
END:STANDARD
BEGIN:DAYLIGHT
TZOFFSETFROM:-0800
TZOFFSETTO:-0700
TZNAME:PDT
DTSTART:20260308T100000
END:DAYLIGHT
BEGIN:STANDARD
TZOFFSETFROM:-0700
TZOFFSETTO:-0800
TZNAME:PST
DTSTART:20261101T090000
END:STANDARD
BEGIN:DAYLIGHT
TZOFFSETFROM:-0800
TZOFFSETTO:-0700
TZNAME:PDT
DTSTART:20270314T100000
END:DAYLIGHT
BEGIN:STANDARD
TZOFFSETFROM:-0700
TZOFFSETTO:-0800
TZNAME:PST
DTSTART:20271107T090000
END:STANDARD
END:VTIMEZONE
BEGIN:VEVENT
DTSTART;TZID=America/Los_Angeles:20260409T173000
DTEND;TZID=America/Los_Angeles:20260409T200000
DTSTAMP:20260420T052832
CREATED:20260407T182614Z
LAST-MODIFIED:20260407T182614Z
UID:23744-1775755800-1775764800@events.kyma.com
SUMMARY:Grand Opening of Old Eucalyptus Schoolhouse
DESCRIPTION:You are cordially invited to celebrate the Grand Opening of the Old Eucalyptus Schoolhouse \n796 W Evan Hewes Hwy\, El Centro\, CA 92243 \nJoin us for an evening of community\, history\, and celebration at our beautifully restored venue. \nThursday\, Apirl 9\, 2026 \n5:30 p.m. \nSnacks\, refreshments\, and networking
URL:https://events.kyma.com/event/grand-opening-of-old-eucalyptus-schoolhouse/
LOCATION:Old Eucalyptus Schoolhouse\, 796 W Evan Hewes Hwy\, El Centro\, CA\, 92243\, United States
CATEGORIES:Food and Drink,Other
ATTACH;FMTTYPE=image/jpeg:https://events.kyma.com/wp-content/uploads/2026/04/IMG_8841.jpg
END:VEVENT
END:VCALENDAR