BEGIN:VCALENDAR
VERSION:2.0
PRODID:-//KYMA Events - ECPv6.15.20//NONSGML v1.0//EN
CALSCALE:GREGORIAN
METHOD:PUBLISH
X-WR-CALNAME:KYMA Events
X-ORIGINAL-URL:https://events.kyma.com
X-WR-CALDESC:Events for KYMA Events
REFRESH-INTERVAL;VALUE=DURATION:PT1H
X-Robots-Tag:noindex
X-PUBLISHED-TTL:PT1H
BEGIN:VTIMEZONE
TZID:America/Los_Angeles
BEGIN:DAYLIGHT
TZOFFSETFROM:-0800
TZOFFSETTO:-0700
TZNAME:PDT
DTSTART:20230312T100000
END:DAYLIGHT
BEGIN:STANDARD
TZOFFSETFROM:-0700
TZOFFSETTO:-0800
TZNAME:PST
DTSTART:20231105T090000
END:STANDARD
BEGIN:DAYLIGHT
TZOFFSETFROM:-0800
TZOFFSETTO:-0700
TZNAME:PDT
DTSTART:20240310T100000
END:DAYLIGHT
BEGIN:STANDARD
TZOFFSETFROM:-0700
TZOFFSETTO:-0800
TZNAME:PST
DTSTART:20241103T090000
END:STANDARD
BEGIN:DAYLIGHT
TZOFFSETFROM:-0800
TZOFFSETTO:-0700
TZNAME:PDT
DTSTART:20250309T100000
END:DAYLIGHT
BEGIN:STANDARD
TZOFFSETFROM:-0700
TZOFFSETTO:-0800
TZNAME:PST
DTSTART:20251102T090000
END:STANDARD
END:VTIMEZONE
BEGIN:VEVENT
DTSTART;TZID=America/Los_Angeles:20241003T180000
DTEND;TZID=America/Los_Angeles:20241003T200000
DTSTAMP:20260423T094215
CREATED:20240924T184141Z
LAST-MODIFIED:20240924T184141Z
UID:6237-1727978400-1727985600@events.kyma.com
SUMMARY:4th Annual Walk and Candlelight Vigil Against Domestic Violence “NO MORE” “No Mas” 2024
DESCRIPTION:The 4th Annual Walk and Candlelight\, for those who have lost a loved one through Domestic Violence or a victim of crime. It’s honoring their memory please bring a photo to the event also\, community resources will be available
URL:https://events.kyma.com/event/4th-annual-walk-and-candlelight-vigil-against-domestic-violence-no-more-no-mas-2024/
LOCATION:Veterans Memorial Park 950 Main Street Somerton\, AZ.\, 950 Main Street\, Somerton\, AZ
CATEGORIES:Community
ATTACH;FMTTYPE=image/jpeg:https://events.kyma.com/wp-content/uploads/2024/09/457600234_924574013043977_6039495009518447331_n.jpg
END:VEVENT
END:VCALENDAR